Workbook

Sheet Notice
A1: NOTICE EXPLICATIVE DU KIT INGENIERIE Certificat complémentaire professionnel "Mobiliser des activités complémentaires pour gérer sa carrière et son après-carrière de sportifs, parasportifs de haut niveau ou professionnels "
A4: OBJET
A5: Cet outil a vocation à servir de support partagé entre l'organisme partenaire et OCS dans le cadre de la démarche d'habilitation mais aussi et surtout pour le suivi des sessions de formation. Pour toute demande d'ouverture de nouvelle session, les onglets 1 et 2 du kit ingénierie devront être actualisés et transmis à l'OCS au plus tard 1 mois avant l'entrée en formation des candidats. Dès réception de l'accord d'ouverture de session, un lien vers un dossier partagé (Dossier partagé) vous sera communiqué pour y déposer, au plus tard le jour d'entrée en formation, le kit complet avec les données des candidats ainsi que les différentes pièces justificatives. Ce kit devra être tenu à jour sur le Dossier partagé au fur et à mesure de la session de formation car il servira de base pour les réunions de suivi mais aussi pour le jury de délibération (dit jury plénier)
A7: PRESENTATION DES ONGLETS
A9: 1. Contact : comprend les coordonnées des interlocuteurs au sein de votre organisme avec, le cas échéant, celles des référents handicap. La dénomination, le site de formation et les dates de session seront reportés automatiquement sur toutes les autres feuilles du classeur. Veillez à bien renseigner cette information.
A11: 2. Intervenants : tableau permettant d'identifier à la fois les volumes de formation programmés (en présentiel et en distanciel) mais également les intervenants ciblés ainsi que leur statut.
A13: 3. Calendrier : Tableau permettant de planifier les volumes et périodes en centre de formation sur l'ensemble du parcours ainsi que les périodes d'immersion professionnelle, d'évaluation, de rattrapage, etc. NB : Les heures du positionnement, de l'immersion professionnelle et les volumes d'organisation des épreuves certificatives n'ont pas vocation être reportés sur ce calendrier.
A15: 4. Candidats : Données "candidats" devant être renseignées au plus tard au 1er jour de la formation. Elles intègrent également les informations à collecter dans le cadre du processus vérification des pré requis et de positionnement . Les dossiers complets des candidats comprenant les pièces justificatives doivent déposé sur le dossier partagé 15 jours calendaires avant l'entrée en formation. La complétude et la fiabilité des données sont fondamentales, notamment concernant l'état civil, car elles seront utilisées pour toutes les procédures de certification par l'OCS (parchemin, dépôt Caisse des Dépôts, etc). Ce seront également ces données qui seront reportées sur le PV de délibération à l'issu du jury plénier. NB : Ne pas supprimer de la liste les candidats qui quittent la formation en cours. Il sera alors mentionné "abandon" aux épreuves certificatives. La date de l'abandon et les raisons de celui-ci devront être notifiées.
A17: ECHEANCIER / LIVRABLES
A19: Pour toute demande d'ouverture de session (1 mois avant l'entrée en formation) : par mail
A21: Au plus 15 jours calendaires avant l'entrée en formation : Actualiser le kit ingénierie et compléter les données candidats + dépôt des dossiers individuels (justificatifs) sur le Dossier partagé
A23: Au plus 7 jours calendaires avant l'entrée en formation : Validation ou non de l'ouverture de session par le Certificateur
A25: Au plus tard 10 jours avant le jury de délibération : Complétude de tous les onglets et des dossiers candidats sur le Dossier partagé

Sheet 1.Contacts
A2: Partenaire : | B2: Nom Organisme partenaire | C2: Site : | D2: Lieu de formation
A4: Date de la session : | B4: JJ/MM/AAAA au JJ/MM/AAAA | C4: Nombre de candidats* : | D4: =COUNTA('3. Candidats'!A8:A27) -> 1 | E4: *remplissage auto
A6: Adresse(s) exacte(s) du(des) lieu(x) de formation
A8: Fonction | B8: Nom référent-s | C8: Mail | D8: Portable/ligne directe
A9: Représentant légal
A10: Contact principal du Certificateur

Sheet 2.Intervenants
B1: Certificat complémentaire professionnel "Mobiliser des activités complémentaires pour gérer sa carrière et son après-carrière de sportifs, parasportifs de haut niveau ou professionnels "
B2: Compétences | C2: volumes indicatifs | D2: Noms des formateurs | E2: CV transmis | F2: Type d'intervenant | G2: Statut | H2: Volume présentiel | I2: Volume distanciel | J2: TOTAL
B3: C1 - S’impliquer dans un environnement sportif de proximité en interagissant avec les acteurs directs et indirects afin de créer un réseau de relations et éviter l’isolement pour rester pleinement engagé dans la poursuite de ses objectifs sportifs | C3: à compléter | J3: =SUM(H3:I6) -> 0
B7: C2 - Gérer une communication avec un environnement externe, en maitrisant différents supports médias afin de communiquer positivement et de préserver son image | C7: à compléter | J7: =SUM(H7:I10) -> 0
B11: C3 - S’adapter aux contextes internationaux et interculturels du sport de haut niveau en développant une compréhension des codes et pratiques culturels, afin de favoriser une collaboration efficace et respectueuse. | C11: à compléter | J11: =SUM(H11:I14) -> 0
B15: C4 - Pratiquer une discipline sportive dans un cadre réglementaire et culturel en appliquant le droit du travail et la convention collective de rattachement, afin de sécuriser et pérenniser sa carrière sportive. | C15: à compléter | J15: =SUM(H15:I18) -> 0
B19: C5 - S’engager dans une démarche stratégique de partenariats en identifiant, mobilisant les outils adéquats et en fidélisant des acteurs économiques et institutionnels, afin de développer des ressources financières pérennes | C19: à compléter | J19: =SUM(H19:I22) -> 0
B23: C6 - Repérer les opportunités d’emplois en mobilisant différentes sources d’informations afin d’être acteur de son parcours professionnel | C23: à compléter | J23: =SUM(H23:I26) -> 0
B27: C7 - Identifier les interlocuteurs à solliciter en s’appuyant sur une analyse des besoins afin de programmer des actions de formation et de professionnalisation | C27: à compléter | J27: =SUM(H27:I30) -> 0
B31: C8 - Prévenir les risques liés à une pratique sportive de haut niveau en : - Gérant la charge d’entrainement - Intégrant une hygiène de vie adaptée à l’effort - Connaissant les mécanismes de déclenchement d’une addiction - Mobilisant des ressources médicales et paramédicales afin de préserver son intégrité physique et psychologique | C31: à compléter | J31: =SUM(H31:I34) -> 0
B35: C9 - Anticiper les risques associés à un statut de personnalité publique en respectant les cadres réglementaires, chartes éthiques et code de conduite afin de se préserver des dérives possibles et tendre vers une pratique professionnelle responsable | C35: à compléter | J35: =SUM(H35:I38) -> 0
B39: C10 - Prévenir des situations d’incivilités, de violences et de discriminations dans le sport en tenant compte des obligations légales afin d’agir en conséquence | C39: à compléter | J39: =SUM(H39:I42) -> 0
B43: Enseignements complémentaires (facultatif) | C43: à compléter | J43: =SUM(H43:I46) -> 0
C47: =SUM(C3:C46) -> 0 | G47: TOTAL | H47: =SUM(H3:H46) -> 0 | I47: =SUM(I3:I46) -> 0 | J47: =SUM(J3:J46) -> 0
G48: Total sous-traitance (Limité à 80%, soit 134h) | H48: =SUMIFS(H3:H46,G3:G46,'Listes déroulantes'!A3)+SUMIFS(I3:I46,G3:G46,'Listes déroulantes'!A3) -> 0
G49: Total distanciel (Limité à 50%, soit 84h) | H49: =SUM(I3:I46) -> 0
B51: Organisme Partenaire | C51: ='1.Contacts'!B2 -> Nom Organisme partenaire | G51: Site | H51: ='1.Contacts'!D2 -> Lieu de formation
B52: Dates session | C52: ='1.Contacts'!B4 -> JJ/MM/AAAA au JJ/MM/AAAA
B53: Choix des intervenants : Les formateurs doivent justifier d'une qualification ainsi que d'une expérience professionnelle en tant que formateur et dans l'encadrement sportif " dans le secteur sport santé". Documents à transmettre : CV des nouveaux intervenant€s (non identifiés au moment de la demande d'habilitation) ;
C92: RNCP+RS | D92: total
C93: TOTAL | D93: =#REF!+J47 -> #REF!

Sheet 3.Calendrier
B1: Calendrier CCP RS7492
A2: J | B2: Trimestre 1 | E2: Trimestre 2 | H2: Trimestre 3 | K2: Trimestre 4
A3: J | B3: 46204 | C3: 46235 | D3: 46266 | E3: 46296 | F3: 46327 | G3: 46357 | H3: 46388 | I3: 46419 | J3: 46447 | K3: 46478 | L3: 46508 | M3: 46539
A4: 1 | B4: 7 | F4: férié | H4: férié | L4: férié
A5: 2
A6: 3
A7: 4
A8: 5
A9: 6 | L9: férié
A10: 7
A11: 8 | L11: férié
A12: 9
A13: 10
A14: 11 | F14: férié
A15: 12
A16: 13
A17: 14 | B17: férié
A18: 15 | C18: férié
A19: 16
A20: 17 | L20: férié
A21: 18
A22: 19
A23: 20
A24: 21
A25: 22
A26: 23
A27: 24
A28: 25 | G28: férié
A29: 26
A30: 27
A31: 28
A32: 29 | J32: férié
A33: 30
A34: 31
A35: Heures | B35: =SUM(B4:B33) -> 7 | C35: =SUM(C4:C33) -> 0 | D35: =SUM(D4:D33) -> 0 | E35: =SUM(E4:E33) -> 0 | F35: =SUM(F4:F33) -> 0 | G35: =SUM(G4:G33) -> 0 | H35: =SUM(H4:H33) -> 0 | I35: =SUM(I4:I33) -> 0 | ... M35: =SUM(M4:M33) -> 0
A37: Total h | B37: =SUM(C38:C42) -> 7 | I37: LEGENDE | J37: Positionnement | M37: A COMPLETER (pas de volume)
A38: T1 | C38: =SUM(B35:D35) -> 7 | J38: Immersion professionnelle | M38: A COMPLETER (pas de volume)
A39: T2 | C39: =SUM(E35:G35) -> 0 | J39: Formation centre | M39: A COMPLETER + volumes
A40: T3 | C40: =SUM(H35:J35) -> 0 | J40: Week-end et jours fériés
A41: T4 | C41: =SUM(K35:M35) -> 0 | J41: Epreuves certificatives et rattrapage | M41: A COMPLETER (pas de volume)
A42: T5 | C42: =SUM(N35:P35) -> 0 | J42: Jurys délibération | M42: Dates placées par OCS
D45: Dates de session : | F45: ='1.Contacts'!B4 -> JJ/MM/AAAA au JJ/MM/AAAA
D46: Nom organisme : | F46: ='3. Candidats'!C2 -> Nom Organisme partenaire
D47: Site : | F47: ='3. Candidats'!G2 -> Lieu de formation
C49: La période de la formation complète sans allègement à la suite du positionnement ne peut être inférieure à 4 mois

Sheet 3. Candidats
B2: Partenaire : | C2: ='1.Contacts'!B2 -> Nom Organisme partenaire | F2: Site de formation : | G2: ='1.Contacts'!D2 -> Lieu de formation
B4: Date session : | C4: ='1.Contacts'!B4 -> JJ/MM/AAAA au JJ/MM/AAAA | F4: Rappel : les justificatifs doivent être transmis au plus tard 15 jours ouvrables avant l'entrée en formation
A6: NOM Candidat* | B6: Prénom | C6: Sexe | D6: Date de naissance | E6: Commune de résidence | F6: CP de résidence | G6: Adresse mail | H6: Téléphone | I6: Justificatifs produits et archivés dans SP | L6: Allégements accordés dans le cadre du positionnement suivant les compétences(le cas échéant) | W6: Objectif poursuivi lors de l'inscription au RS | X6: Date d'entrée en formation | Y6: Date abandon (le cas échéant) | Z6: Raison de l'abandon | AA6: Commentaire libre de l'organisme
I7: Pièce d'identité | J7: Inscription liste SHN ou contrat sportif professionnel | K7: 18 ans | L7: C1 | M7: C2 | N7: C3 | O7: C4 | P7: C5 | Q7: C6 | R7: C7 | S7: C8 | T7: C9 | U7: C10 | V7: Vol total (h)
A8: Ex : DUPONT | B8: Antoine | C8: M | D8: 35956 | E8: TOULOUSE | F8: 31000 | G8: gdupont@gmail.com | H8: 0652321025 | I8: OUI | J8: OUI | K8: OUI | L8: NON | M8: OUI | N8: NON | O8: OUI | P8: NON | Q8: NON | R8: NON | S8: NON | T8: NON | U8: NON | V8: 2

Sheet Listes déroulantes
A1: Statut formateur | B1: Sexe | C1: Niveau dernière qualif | D1: Objectif poursuivi lors de l'inscription | E1: Financement mis en œuvre | F1: Statut MATU | G1: Justifif | H1: statut struct altern | I1: Type d'intervenant | J1: Transmission CV intervenant
A2: Salarié de l'organisme | B2: M | C2: 3 | D2: Mobilité professionnelle | E2: CPF | F2: Salarié(e) | G2: OUI | H2: Association | I2: Formateur | J2: OUI
A3: Sous-traitant | B3: F | C3: 4 | D3: Evolution professionnelle | E3: Personnel | F3: Elu(e) bénévole | G3: NON | H3: Autre | I3: Intervenant spécialisé | J3: NON
C4: 5 | D4: Adaptation au poste de travail | E4: Entreprise | F4: Autre | G4: S.O.
C5: 6 | D5: Accès ou maintien de l'emploi | E5: France Travail
C6: 7 | D6: Développement des compétences | E6: Cofinancement dont CPF
C7: 8 | D7: Autre | E7: Autre
