Workbook

Sheet Notice
A1: NOTICE EXPLICATIVE DU KIT INGENIERIE TFP "Chargé de développement d'une structure sportive associative"
A4: OBJET
A5: Cet outil a vocation à servir de support partagé entre l'organisme partenaire et OCS dans le cadre de la démarche d'habilitation mais aussi et surtout pour le suivi des sessions de formation. Dès réception de la demande d'ouverture de session par mail, le Certificateur vous communiquera par mail un lien vers un dossier partagé pour y déposer, au plus tard 15 jours calendaires avant l'entrée en formation, le kit complet avec les données des candidats ainsi que les différentes pièces justificatives. Les onglets 1 à 3 du kit ingénierie devront également être actualisés. Ce kit devra être tenu à jour sur le Dossier partagé au fur et à mesure de la session de formation car il servira de base pour les réunions de suivi mais aussi pour le jury de délibération. NB : Les notes des évaluations formatives et les PV des sessions d'examen devront nécessairement être renseignés au plus tard 10 jours avant la présentation des candidats au jury de délibération.
A7: PRESENTATION DES ONGLETS
A9: 1. Contact : comprend les coordonnées des interlocuteurs au sein de votre organisme avec, le cas échéant, celles des référents handicap et mobilité pour les CFA. La dénomination, le site de formation et les dates de session seront reportés automatiquement sur toutes les autres feuilles du classeur. Veillez à bien renseigner cette information.
A11: 2. Intervenants : tableau permettant d'identifier à la fois les volumes de formation programmés (en présentiel et en distanciel) mais également les intervenants ciblés ainsi que leur statut. Des lignes peuvent être rajoutées si vous souhaitez intégrer des modules supplémentaires. NB : Les volumes d'enseignement de ces modules supplémentaires ne pourront pas être compris dans le volume minimal des 602h prescrites.
A13: 3. Calendrier : tableau permettant de planifier les volumes et périodes en centre de formation sur l'ensemble du parcours ainsi que les périodes d'alternance, de repos, de rattrapage/consolidation, etc. Les dates des jurys d'évaluation sont approximatives et seront précisées au plus tard lors de la réunion des partenaires habilités du mois de juin 2024. NB : Les temps en structure d'alternance et les volumes d'organisation des épreuves certificatives n'ont pas vocation être reportés sur ce calendrier.
A15: 4.1 Candidats : Données "candidats" devant être renseignées au plus tard au 1er jour de la formation. Elles intègrent également les informations à collecter dans le cadre du processus vérification des pré requis et de positionnement . La complétude et la fiabilité des données sont fondamentales, notamment concernant l'état civil, car elles seront reportées automatiquement sur chaque feuille du classeur. Ce seront également ces données qui seront reportées sur le PV de délibération et qui seront transmises à la CDC pour l'accrochage. NB : Ne pas supprimer de la liste les candidats qui quitte la formation en cours. Il sera alors mentionné "abandon" aux épreuves certificatives (onglets 6 à 9)
A17: 4.2 Tuteurs : Une liste de structure (avec les informations relatives à celle-ci et au tuteur) doit être identifié dans la demande de candidature. Les données "structures et tuteurs" pourront être consolidées au plus tard 2 mois après l'entrée en formation des candidats. Il est néanmoins vivement conseillé de ne pas faire entrer en formation les candidats sans structure d'alternance et tuteur/MA identifiés dès la phase de sélection.
A19: 5. Eval formatives : Chaque bloc de compétences doit faire l'objet d'au moins d'une évaluation formative notée sur 20 au cours du parcours de formation. Il est néanmoins possible de modifier le tableau pour enrichir les modalités d'évaluation formatives, dans le cadre de la franchise pédagogique laissée à chaque partenaire. NB : Une évaluation en structure est également obligatoire en fin de cursus pour la présentation des candidats en jury de délibération. La fiche d'évaluation en structure sera versée au dossier du candidat sur le SharePoint.
A21: 6. Certif BC01 à BC04 : tableaux des résultats des épreuves certificatives obtenues lors la première session et du rattrapage de chaque Bloc de Compétences. NB : Le partenaire doit veiller à reporter les résultats des candidats de manière strictement identique aux avis mentionnés sur les grilles d'évaluation signées par les évaluateurs et archivées dans le dossier individuel de chaque candidat sur le SharePoint. Attention à ne pas oublier de renseigner la colonne "Avis final" sur la validation ou non du bloc (consolidation 1ère session d'examen et rattrapage).
A23: 7. Synthèse des résultats : Les résultats des épreuves certificatives sont reportées automatiquement sur le tableau de cet onglet. Le partenaire n'a pas d'action particulière à réaliser sur cet onglet qui serivra essentiellement au jury de délibération.
... A35: Au plus tard 10 jours calendaires avant le jury de délibération : Complétude de tous les onglets et des dossiers candidats sur le SharePoint

Sheet 1.Contacts
A2: Partenaire : | B2: dénomination organisme | C2: Site : | D2: Lieu de formation
A4: Date de la session : | B4: Du XX/XX/XX au XX/XX/XX | C4: Nombre d'apprentis* : | D4: =COUNTA('4.1 Candidats'!A8:A31) -> 1 | E4: *remplissage auto
A6: Adresse(s) exacte(s) du(des) lieu(x) de formation
A8: Fonction | B8: Nom référent-s | C8: Mail | D8: Portable/ligne directe
A9: Représentant légal
A10: Interlocuteur principal pour le TFP
A11: Réf handicap (obligatoire si CFA)

Sheet 2.Intervenants
B1: TFP Chargé de développement d'une structure sportive associative
B2: Module | C2: volumes indicatifs | D2: Noms des formateurs | E2: CV transmis (OUI/NON) | F2: Statut | G2: Volume présentiel | H2: Volume distanciel | I2: TOTAL
B3: 1.Sociologie et écosystème de la structure sportive | C3: 42 | I3: =SUM(G3:H6) -> 0
B7: 2.Organisation et fonctionnement d'une association loi 1901 | C7: 28 | I7: =SUM(G7:H10) -> 0
B11: 3.Cadre légal et règlementaire applicable à une structure sportive associative | C11: 28 | I11: =SUM(G11:H14) -> 0
B15: 4.La démarche RSO dans une structure sportive | C15: 42 | I15: =SUM(G15:H18) -> 0
B19: 5.L’analyse structurelle et stratégique d’une organisation sportive | C19: 21 | I19: =SUM(G19:H22) -> 0
B23: 6.Gestion comptable et financière d’une structure sportive | C23: 56 | I23: =SUM(G23:H26) -> 0
B27: 7.Le développement de partenariats | C27: 35 | I27: =SUM(G27:H30) -> 0
B31: 8.Animation d’équipe et gestion RH dans une structure sportive | C31: 49 | I31: =SUM(G31:H34) -> 0
B35: 9.Techniques et démarches de communication interne et externe | C35: 42 | I35: =SUM(G35:H38) -> 0
B39: 10.Stratégie de communication de la structure sportive | C39: 35 | I39: =SUM(G39:H42) -> 0
B43: 11.Organisation des activités sportives | C43: 70 | I43: =SUM(G43:H46) -> 0
B47: 12.Règles et consignes de sécurité et d’hygiène des activités sportives | C47: 42 | I47: =SUM(G47:H50) -> 0
... B55: 14.Gestion de projet | C55: 42 | I55: =SUM(G55:H58) -> 0
B59: 15. Module complémentaire | C59: à compléter | I59: =SUM(G59:H62) -> 0
C63: =SUM(C3:C62) -> 602 | F63: TOTAL | G63: =SUM(G3:G62) -> 0 | H63: =SUM(H3:H62) -> 0 | I63: =SUM(I3:I62) -> 0
F64: Total Sous-traitance (482h max) | G64: =SUMIFS(G3:G58,F3:F58,"Sous-traitant")+SUMIFS(H3:H58,F3:F58,"Sous-traitant") -> 0
F65: Total Distanciel (90h) | G65: =SUM(H3:H58) -> 0
B67: Organisme Partenaire | C67: ='1.Contacts'!B2 -> dénomination organisme | F67: Site | G67: ='1.Contacts'!D2 -> Lieu de formation
B68: Dates session | C68: ='1.Contacts'!B4 -> Du XX/XX/XX au XX/XX/XX
B69: Choix des intervenants : Une qualification et/ou une expérience professionnelle significatives dans le(s) domaine(s) enseigné(s) sont attendues. Documents à transmettre : CV des nouveaux intervenants (non identifiés au moment de la demande d'habilitation) ;
C108: RNCP+RS | D108: total
C109: TOTAL | D109: =#REF!+I63 -> #REF!

Sheet 3.Calendrier
B1: Calendrier TFP Chargé de développement d'une SSA
B2: Trimestre 1 | E2: Trimestre 2 | H2: Trimestre 3 | K2: Trimestre 4 | N2: Trimestre 5 | Q2: Trimestre 6
A3: J | B3: 46266 | C3: 46296 | D3: 46327 | E3: 46357 | F3: 46388 | G3: 46419 | H3: 46447 | I3: 46478 | J3: 46508 | K3: 46539 | L3: 46569 | M3: 46600 | N3: 46631 | O3: 46661 | P3: 46692 | Q3: 46722 | R3: 46753 | S3: 46784
A4: 1 | B4: 7 | D4: férié | F4: férié | J4: férié | P4: férié | R4: férié
A5: 2 | B5: 7
A6: 3 | B6: 7
A7: 4 | B7: 7
A8: 5
A9: 6 | J9: férié
A10: 7
A11: 8 | J11: férié
A12: 9
A13: 10
A14: 11 | D14: férié
A15: 12
A16: 13
A17: 14 | L17: férié
A18: 15 | M18: férié
A19: 16
A20: 17
A21: 18
A22: 19
A23: 20
A24: 21
A25: 22
A26: 23
A27: 24
A28: 25 | E28: Noël | Q28: férié
A29: 26
A30: 27
A31: 28
A32: 29 | H32: férié
A33: 30
A34: 31
A36: Heures | B36: =SUM(B4:B34) -> 28 | C36: =SUM(C4:C34) -> 0 | D36: =SUM(D4:D34) -> 0 | E36: =SUM(E4:E34) -> 0 | F36: =SUM(F4:F34) -> 0 | G36: =SUM(G4:G34) -> 0 | H36: =SUM(H4:H34) -> 0 | I36: =SUM(I4:I34) -> 0 | ... S36: =SUM(S4:S34) -> 0
A38: Total h | B38: =SUM(C39:C43) -> 28 | E38: LEGENDE | F38: Jours en struct alternance | J38: A COMPLETER (pas de volume)
A39: T1 | C39: =SUM(B36:D36) -> 28 | F39: Formation centre | J39: A COMPLETER + volumes
A40: T2 | C40: =SUM(E36:G36) -> 0 | F40: Week-end et jours fériés
A41: T3 | C41: =SUM(H36:J36) -> 0 | F41: Epreuves certificatives dont rattrapages | J41: A COMPLETER (pas de volume)
A42: T4 | C42: =SUM(K36:M36) -> 0 | F42: Jurys délibération | J42: Dates approximatives (à confirmer OCS)
...

Sheet 4.1 Candidats
B2: Partenaire : | C2: ='1.Contacts'!B2 -> dénomination organisme | F2: Site de formation : | K2: ='1.Contacts'!D2 -> Lieu de formation
B4: Date session : | C4: ='1.Contacts'!B4 -> Du XX/XX/XX au XX/XX/XX | J4: Rappel des justificatifs à transmettre au 1er jour de la formation : pièce d'identité, diplôme, PSC1 ou équivalent, Justificatif d'expérience associative
A6: NOM Candidat* | B6: Prénom | C6: Sexe | D6: Date de naissance | E6: Commune de naissance | F6: CP de naissance | G6: Adresse postale | H6: Code postal | I6: Commune | J6: Adresse mail | K6: Téléphone | L6: Niveau de qualification avant le cursus | M6: Intitulé de la dernière certification obtenue* | N6: Dernier métier exercé | O6: Situation avant le cursus certifiant | P6: Voie d'accès à la Certification | Q6: Durée d'expérience associative (en année)* | R6: Justificatifs produits et archivés dans SP | W6: Equivalence ou dispense de bloc(s)* | AA6: Allégements accordés dans le cadre du positionnement (le cas échéant) | AF6: Projet professionnel du candidat | AG6: Commentaire libre de l'organisme
R7: Pièce d'identité | S7: Dipl NIV4 (min) | T7: PSC1 ou équiv | U7: Exp asso >1an | V7: Disp/Equivalence* | W7: BC1 | X7: BC2 | Y7: BC3 | Z7: BC4 | AA7: BC1 | AB7: BC2 | AC7: BC3 | AD7: BC4 | AE7: Vol total (h)
A8: Ex : DUPONT | B8: Antoine | C8: M | D8: 35956 | E8: SURESNES | F8: 92200 | H8: 31000 | I8: Toulouse | J8: gdupont@gmail.com | K8: 0652321025 | L8: 4 | M8: BPJEPS | N8: éducateur sportif | O8: actif occupé hors alternance | P8: formation continue hors contrat d'alternance | Q8: 3 | R8: OUI | S8: OUI | T8: OUI | U8: OUI | V8: S.O. | AA8: NON | AB8: OUI | AC8: NON | AD8: NON | AE8: 525

Sheet 4.2 Tuteurs
B2: Partenaire : | C2: ='1.Contacts'!B2 -> dénomination organisme | F2: Site de formation : | H2: ='1.Contacts'!D2 -> Lieu de formation
B4: Date session : | C4: ='1.Contacts'!B4 -> Du XX/XX/XX au XX/XX/XX
A6: NOM Candidat* | B6: Prénom | C6: Nom de la structure d'alternance | D6: Statut de la structure d'alternance | E6: Nom - Tuteur | F6: Prénom - Tuteur | G6: Statut Tuteur | H6: Fonction/missions du Tuteur | I6: Adresse mail du Tuteur | J6: Téléphone Tuteur
A7: ='4.1 Candidats'!A8 -> Ex : DUPONT | B7: ='4.1 Candidats'!B8 -> Antoine | G7: Elu(e) bénévole
A8: ='4.1 Candidats'!A9 -> 0 | B8: ='4.1 Candidats'!B9 -> 0
A9: ='4.1 Candidats'!A10 -> 0 | B9: ='4.1 Candidats'!B10 -> 0
A10: ='4.1 Candidats'!A11 -> 0 | B10: ='4.1 Candidats'!B11 -> 0
A11: ='4.1 Candidats'!A12 -> 0 | B11: ='4.1 Candidats'!B12 -> 0
A12: ='4.1 Candidats'!A13 -> 0 | B12: ='4.1 Candidats'!B13 -> 0
A13: ='4.1 Candidats'!A14 -> 0 | B13: ='4.1 Candidats'!B14 -> 0
A14: ='4.1 Candidats'!A15 -> 0 | B14: ='4.1 Candidats'!B15 -> 0
A15: ='4.1 Candidats'!A16 -> 0 | B15: ='4.1 Candidats'!B16 -> 0
A16: ='4.1 Candidats'!A17 -> 0 | B16: ='4.1 Candidats'!B17 -> 0
A17: ='4.1 Candidats'!A18 -> 0 | B17: ='4.1 Candidats'!B18 -> 0
A18: ='4.1 Candidats'!A19 -> 0 | B18: ='4.1 Candidats'!B19 -> 0
A19: ='4.1 Candidats'!A20 -> 0 | B19: ='4.1 Candidats'!B20 -> 0
... A30: ='4.1 Candidats'!A31 -> 0 | B30: ='4.1 Candidats'!B31 -> 0

Sheet 5.Eval formatives
B2: Partenaire : | C2: ='1.Contacts'!B2 -> dénomination organisme | E2: Site de formation : | G2: ='1.Contacts'!D2 -> Lieu de formation
B4: Date session : | C4: ='1.Contacts'!B4 -> Du XX/XX/XX au XX/XX/XX
A6: NOM | B6: Prénom | C6: BC1 | D6: BC2 | E6: BC3 | F6: BC4 | G6: Moyenne | H6: Note Tuteur | I6: Commentaire Organisme
A7: ='4.1 Candidats'!A8 -> Ex : DUPONT | B7: ='4.1 Candidats'!B8 -> Antoine | G7: =AVERAGE(C7:F7) -> #DIV/0!
A8: ='4.1 Candidats'!A9 -> 0 | B8: ='4.1 Candidats'!B9 -> 0 | G8: =AVERAGE(C8:F8) -> #DIV/0!
A9: ='4.1 Candidats'!A10 -> 0 | B9: ='4.1 Candidats'!B10 -> 0 | G9: =AVERAGE(C9:F9) -> #DIV/0!
A10: ='4.1 Candidats'!A11 -> 0 | B10: ='4.1 Candidats'!B11 -> 0 | G10: =AVERAGE(C10:F10) -> #DIV/0!
A11: ='4.1 Candidats'!A12 -> 0 | B11: ='4.1 Candidats'!B12 -> 0 | G11: =AVERAGE(C11:F11) -> #DIV/0!
A12: ='4.1 Candidats'!A13 -> 0 | B12: ='4.1 Candidats'!B13 -> 0 | G12: =AVERAGE(C12:F12) -> #DIV/0!
A13: ='4.1 Candidats'!A14 -> 0 | B13: ='4.1 Candidats'!B14 -> 0 | G13: =AVERAGE(C13:F13) -> #DIV/0!
A14: ='4.1 Candidats'!A15 -> 0 | B14: ='4.1 Candidats'!B15 -> 0 | G14: =AVERAGE(C14:F14) -> #DIV/0!
A15: ='4.1 Candidats'!A16 -> 0 | B15: ='4.1 Candidats'!B16 -> 0 | G15: =AVERAGE(C15:F15) -> #DIV/0!
A16: ='4.1 Candidats'!A17 -> 0 | B16: ='4.1 Candidats'!B17 -> 0 | G16: =AVERAGE(C16:F16) -> #DIV/0!
A17: ='4.1 Candidats'!A18 -> 0 | B17: ='4.1 Candidats'!B18 -> 0 | G17: =AVERAGE(C17:F17) -> #DIV/0!
A18: ='4.1 Candidats'!A19 -> 0 | B18: ='4.1 Candidats'!B19 -> 0 | G18: =AVERAGE(C18:F18) -> #DIV/0!
... A30: ='4.1 Candidats'!A31 -> 0 | B30: ='4.1 Candidats'!B31 -> 0 | G30: =AVERAGE(C30:F30) -> #DIV/0!
A32: Description des modalités d'évaluation formatives mises en œuvre par l'organisme :
A34: BLOC 1 :
A38: BLOC 2 :
A42: BLOC 3 :
A46: BLOC 4 :

Sheet 6.Certif BC01
B1: PROCES-VERBAL – JURY D’EVALUATION - TFP "Chargé de développement d'une structure associative sportive" BC01 : Accompagner le projet de développement d’une structure sportive associative
B2: 1ère session - JURYS EVALUATION | F2: Rattrapages - JURYS EVALUATION
B4: OF organisatrice de la session d'examen : | D4: ='1.Contacts'!B2 -> dénomination organisme | F4: OF organisatrice de la session d'examen : | H4: ='1.Contacts'!B2 -> dénomination organisme
B5: Lieu de l'épreuve / adresse si présentiel : | D5: Outil utilisé si distanciel : | F5: Lieu de l'épreuve / adresse si présentiel : | H5: Outil utilisé si distanciel :
B6: Date/heure de début de la session d'examen : | F6: Date/heure de début de la session d'examen :
B7: Date/heure de fin de la session d'examen : | F7: Date/heure de fin de la session d'examen :
B8: Responsable d'organisation des épreuves | F8: Responsable d'organisation des épreuves
B9: Nom / Prénom : | F9: Nom / Prénom :
B10: Fonction : | F10: Fonction :
B11: Observations du jury sur le niveau des candidats | F11: Observations du jury sur le niveau des candidats
B16: Membres - Dirigeants associatifs (Nom / Prénom / Fonction) | D16: Membres - Salariés du secteur sportif (Nom / Prénom / Fonction) | F16: Membres - Dirigeants associatifs (Nom / Prénom / Fonction) | H16: Membres - Salariés du secteur sportif (Nom / Prénom / Fonction)
B17: 1. | D17: 1. | F17: 1. | H17: 1.
B18: 2. | D18: 2. | F18: 2. | H18: 2.
B19: 3. | D19: 3. | F19: 3. | H19: 3.
B20: 4. | D20: 4. | F20: 4. | H20: 4.
B22: CANDIDATS INSCRITS A LA SESSION
B23: L’épreuve est validée si l’ensemble des compétences du bloc est acquis. Les stagiaires en situation de handicap s’étant déclarés auprès de l’organisme de formation peuvent bénéficier d’adaptations particulières pour le déroulement de ces épreuves.
B24: NOM | C24: Prénom | D24: Date de Naissance | E24: Commune de naissance | G24: Résultats 1ère session - BC1 | H24: Résultats Rattrapages - BC1 | I24: Avis FINAL
A25: 1 | B25: ='4.1 Candidats'!A8 -> Ex : DUPONT | C25: ='4.1 Candidats'!B8 -> Antoine | D25: ='4.1 Candidats'!D8 -> 35956 | E25: ='4.1 Candidats'!E8 -> SURESNES
A26: 2 | B26: ='4.1 Candidats'!A9 -> 0 | C26: ='4.1 Candidats'!B9 -> 0 | D26: ='4.1 Candidats'!D9 -> 0 | E26: ='4.1 Candidats'!E9 -> 0
A27: 3 | B27: ='4.1 Candidats'!A10 -> 0 | C27: ='4.1 Candidats'!B10 -> 0 | D27: ='4.1 Candidats'!D10 -> 0 | E27: ='4.1 Candidats'!E10 -> 0
A28: 4 | B28: ='4.1 Candidats'!A11 -> 0 | C28: ='4.1 Candidats'!B11 -> 0 | D28: ='4.1 Candidats'!D11 -> 0 | E28: ='4.1 Candidats'!E11 -> 0
A29: 5 | B29: ='4.1 Candidats'!A12 -> 0 | C29: ='4.1 Candidats'!B12 -> 0 | D29: ='4.1 Candidats'!D12 -> 0 | E29: ='4.1 Candidats'!E12 -> 0
A30: 6 | B30: ='4.1 Candidats'!A13 -> 0 | C30: ='4.1 Candidats'!B13 -> 0 | D30: ='4.1 Candidats'!D13 -> 0 | E30: ='4.1 Candidats'!E13 -> 0
A31: 7 | B31: ='4.1 Candidats'!A14 -> 0 | C31: ='4.1 Candidats'!B14 -> 0 | D31: ='4.1 Candidats'!D14 -> 0 | E31: ='4.1 Candidats'!E14 -> 0
A32: 8 | B32: ='4.1 Candidats'!A15 -> 0 | C32: ='4.1 Candidats'!B15 -> 0 | D32: ='4.1 Candidats'!D15 -> 0 | E32: ='4.1 Candidats'!E15 -> 0
A33: 9 | B33: ='4.1 Candidats'!A16 -> 0 | C33: ='4.1 Candidats'!B16 -> 0 | D33: ='4.1 Candidats'!D16 -> 0 | E33: ='4.1 Candidats'!E16 -> 0
A34: 10 | B34: ='4.1 Candidats'!A17 -> 0 | C34: ='4.1 Candidats'!B17 -> 0 | D34: ='4.1 Candidats'!D17 -> 0 | E34: ='4.1 Candidats'!E17 -> 0
A35: 11 | B35: ='4.1 Candidats'!A18 -> 0 | C35: ='4.1 Candidats'!B18 -> 0 | D35: ='4.1 Candidats'!D18 -> 0 | E35: ='4.1 Candidats'!E18 -> 0
A36: 12 | B36: ='4.1 Candidats'!A19 -> 0 | C36: ='4.1 Candidats'!B19 -> 0 | D36: ='4.1 Candidats'!D19 -> 0 | E36: ='4.1 Candidats'!E19 -> 0
... A48: 24 | B48: ='4.1 Candidats'!A31 -> 0 | C48: ='4.1 Candidats'!B31 -> 0 | D48: ='4.1 Candidats'!D31 -> 0 | E48: ='4.1 Candidats'!E31 -> 0

Sheet 6.Certif BC02
B1: PROCES-VERBAL – JURY D’EVALUATION - TFP "Chargé de développement d'une structure associative sportive" BC02 : Gérer l'administration et les ressources d'une structure sportive associative
B2: 1ère session - JURYS EVALUATION | F2: Rattrapages - JURYS EVALUATION
B4: OF organisatrice de la session d'examen : | D4: ='1.Contacts'!B2 -> dénomination organisme | F4: OF organisatrice de la session d'examen : | H4: ='1.Contacts'!B2 -> dénomination organisme
B5: Lieu de l'épreuve / adresse si présentiel : | D5: Outil utilisé si distanciel : | F5: Lieu de l'épreuve / adresse si présentiel : | H5: Outil utilisé si distanciel :
B6: Date/heure de début de la session d'examen : | F6: Date/heure de début de la session d'examen :
B7: Date/heure de fin de la session d'examen : | F7: Date/heure de fin de la session d'examen :
B8: Responsable d'organisation des épreuves | F8: Responsable d'organisation des épreuves
B9: Nom / Prénom : | F9: Nom / Prénom :
B10: Fonction : | F10: Fonction :
B11: Observations du jury sur le niveau des candidats | F11: Observations du jury sur le niveau des candidats
B16: Membres - Dirigeants associatifs (Nom / Prénom / Fonction) | D16: Membres - Salariés du secteur sportif (Nom / Prénom / Fonction) | F16: Membres - Dirigeants associatifs (Nom / Prénom / Fonction) | H16: Membres - Salariés du secteur sportif (Nom / Prénom / Fonction)
B17: 1. | D17: 1. | F17: 1. | H17: 1.
B18: 2. | D18: 2. | F18: 2. | H18: 2.
B19: 3. | D19: 3. | F19: 3. | H19: 3.
B20: 4. | D20: 4. | F20: 4. | H20: 4.
B22: CANDIDATS INSCRITS A LA SESSION
B23: L’épreuve est validée si l’ensemble des compétences du bloc est acquis. Les stagiaires en situation de handicap s’étant déclarés auprès de l’organisme de formation peuvent bénéficier d’adaptations particulières pour le déroulement de ces épreuves.
B24: NOM | C24: Prénom | D24: Date de Naissance | E24: Commune de naissance | G24: Résultats 1ère session - BC2 | H24: Résultats Rattrapages - BC2 | I24: Avis FINAL
A25: 1 | B25: ='4.1 Candidats'!A8 -> Ex : DUPONT | C25: ='4.1 Candidats'!B8 -> Antoine | D25: ='4.1 Candidats'!D8 -> 35956 | E25: ='4.1 Candidats'!E8 -> SURESNES
A26: 2 | B26: ='4.1 Candidats'!A9 -> 0 | C26: ='4.1 Candidats'!B9 -> 0 | D26: ='4.1 Candidats'!D9 -> 0 | E26: ='4.1 Candidats'!E9 -> 0
A27: 3 | B27: ='4.1 Candidats'!A10 -> 0 | C27: ='4.1 Candidats'!B10 -> 0 | D27: ='4.1 Candidats'!D10 -> 0 | E27: ='4.1 Candidats'!E10 -> 0
A28: 4 | B28: ='4.1 Candidats'!A11 -> 0 | C28: ='4.1 Candidats'!B11 -> 0 | D28: ='4.1 Candidats'!D11 -> 0 | E28: ='4.1 Candidats'!E11 -> 0
A29: 5 | B29: ='4.1 Candidats'!A12 -> 0 | C29: ='4.1 Candidats'!B12 -> 0 | D29: ='4.1 Candidats'!D12 -> 0 | E29: ='4.1 Candidats'!E12 -> 0
A30: 6 | B30: ='4.1 Candidats'!A13 -> 0 | C30: ='4.1 Candidats'!B13 -> 0 | D30: ='4.1 Candidats'!D13 -> 0 | E30: ='4.1 Candidats'!E13 -> 0
A31: 7 | B31: ='4.1 Candidats'!A14 -> 0 | C31: ='4.1 Candidats'!B14 -> 0 | D31: ='4.1 Candidats'!D14 -> 0 | E31: ='4.1 Candidats'!E14 -> 0
A32: 8 | B32: ='4.1 Candidats'!A15 -> 0 | C32: ='4.1 Candidats'!B15 -> 0 | D32: ='4.1 Candidats'!D15 -> 0 | E32: ='4.1 Candidats'!E15 -> 0
A33: 9 | B33: ='4.1 Candidats'!A16 -> 0 | C33: ='4.1 Candidats'!B16 -> 0 | D33: ='4.1 Candidats'!D16 -> 0 | E33: ='4.1 Candidats'!E16 -> 0
A34: 10 | B34: ='4.1 Candidats'!A17 -> 0 | C34: ='4.1 Candidats'!B17 -> 0 | D34: ='4.1 Candidats'!D17 -> 0 | E34: ='4.1 Candidats'!E17 -> 0
A35: 11 | B35: ='4.1 Candidats'!A18 -> 0 | C35: ='4.1 Candidats'!B18 -> 0 | D35: ='4.1 Candidats'!D18 -> 0 | E35: ='4.1 Candidats'!E18 -> 0
A36: 12 | B36: ='4.1 Candidats'!A19 -> 0 | C36: ='4.1 Candidats'!B19 -> 0 | D36: ='4.1 Candidats'!D19 -> 0 | E36: ='4.1 Candidats'!E19 -> 0
... A48: 24 | B48: ='4.1 Candidats'!A31 -> 0 | C48: ='4.1 Candidats'!B31 -> 0 | D48: ='4.1 Candidats'!D31 -> 0 | E48: ='4.1 Candidats'!E31 -> 0

Sheet 6.Certif BC03
B1: PROCES-VERBAL – JURY D’EVALUATION - TFP "Chargé de développement d'une structure associative sportive" BC03 : Gérer les activités sportives et de leurs équipements au sein de la structure sportive associative
B2: 1ère session - JURYS EVALUATION | F2: Rattrapages - JURYS EVALUATION
B4: OF organisatrice de la session d'examen : | D4: ='1.Contacts'!B2 -> dénomination organisme | F4: OF organisatrice de la session d'examen : | H4: ='1.Contacts'!B2 -> dénomination organisme
B5: Lieu de l'épreuve / adresse si présentiel : | D5: Outil utilisé si distanciel : | F5: Lieu de l'épreuve / adresse si présentiel : | H5: Outil utilisé si distanciel :
B6: Date/heure de début de la session d'examen : | F6: Date/heure de début de la session d'examen :
B7: Date/heure de fin de la session d'examen : | F7: Date/heure de fin de la session d'examen :
B8: Responsable d'organisation des épreuves | F8: Responsable d'organisation des épreuves
B9: Nom / Prénom : | F9: Nom / Prénom :
B10: Fonction : | F10: Fonction :
B11: Observations du jury sur le niveau des candidats | F11: Observations du jury sur le niveau des candidats
B16: Membres - Dirigeants associatifs (Nom / Prénom / Fonction) | D16: Membres - Salariés du secteur sportif (Nom / Prénom / Fonction) | F16: Membres - Dirigeants associatifs (Nom / Prénom / Fonction) | H16: Membres - Salariés du secteur sportif (Nom / Prénom / Fonction)
B17: 1. | D17: 1. | F17: 1. | H17: 1.
B18: 2. | D18: 2. | F18: 2. | H18: 2.
B19: 3. | D19: 3. | F19: 3. | H19: 3.
B20: 4. | D20: 4. | F20: 4. | H20: 4.
B22: CANDIDATS INSCRITS A LA SESSION
B23: L’épreuve est validée si l’ensemble des compétences du bloc est acquis. Les stagiaires en situation de handicap s’étant déclarés auprès de l’organisme de formation peuvent bénéficier d’adaptations particulières pour le déroulement de ces épreuves.
B24: NOM | C24: Prénom | D24: Date de Naissance | E24: Commune de naissance | G24: Résultats 1ère session - BC3 | H24: Résultats Rattrapages - BC3 | I24: Avis FINAL
A25: 1 | B25: ='4.1 Candidats'!A8 -> Ex : DUPONT | C25: ='4.1 Candidats'!B8 -> Antoine | D25: ='4.1 Candidats'!D8 -> 35956 | E25: ='4.1 Candidats'!E8 -> SURESNES
A26: 2 | B26: ='4.1 Candidats'!A9 -> 0 | C26: ='4.1 Candidats'!B9 -> 0 | D26: ='4.1 Candidats'!D9 -> 0 | E26: ='4.1 Candidats'!E9 -> 0
A27: 3 | B27: ='4.1 Candidats'!A10 -> 0 | C27: ='4.1 Candidats'!B10 -> 0 | D27: ='4.1 Candidats'!D10 -> 0 | E27: ='4.1 Candidats'!E10 -> 0
A28: 4 | B28: ='4.1 Candidats'!A11 -> 0 | C28: ='4.1 Candidats'!B11 -> 0 | D28: ='4.1 Candidats'!D11 -> 0 | E28: ='4.1 Candidats'!E11 -> 0
A29: 5 | B29: ='4.1 Candidats'!A12 -> 0 | C29: ='4.1 Candidats'!B12 -> 0 | D29: ='4.1 Candidats'!D12 -> 0 | E29: ='4.1 Candidats'!E12 -> 0
A30: 6 | B30: ='4.1 Candidats'!A13 -> 0 | C30: ='4.1 Candidats'!B13 -> 0 | D30: ='4.1 Candidats'!D13 -> 0 | E30: ='4.1 Candidats'!E13 -> 0
A31: 7 | B31: ='4.1 Candidats'!A14 -> 0 | C31: ='4.1 Candidats'!B14 -> 0 | D31: ='4.1 Candidats'!D14 -> 0 | E31: ='4.1 Candidats'!E14 -> 0
A32: 8 | B32: ='4.1 Candidats'!A15 -> 0 | C32: ='4.1 Candidats'!B15 -> 0 | D32: ='4.1 Candidats'!D15 -> 0 | E32: ='4.1 Candidats'!E15 -> 0
A33: 9 | B33: ='4.1 Candidats'!A16 -> 0 | C33: ='4.1 Candidats'!B16 -> 0 | D33: ='4.1 Candidats'!D16 -> 0 | E33: ='4.1 Candidats'!E16 -> 0
A34: 10 | B34: ='4.1 Candidats'!A17 -> 0 | C34: ='4.1 Candidats'!B17 -> 0 | D34: ='4.1 Candidats'!D17 -> 0 | E34: ='4.1 Candidats'!E17 -> 0
A35: 11 | B35: ='4.1 Candidats'!A18 -> 0 | C35: ='4.1 Candidats'!B18 -> 0 | D35: ='4.1 Candidats'!D18 -> 0 | E35: ='4.1 Candidats'!E18 -> 0
A36: 12 | B36: ='4.1 Candidats'!A19 -> 0 | C36: ='4.1 Candidats'!B19 -> 0 | D36: ='4.1 Candidats'!D19 -> 0 | E36: ='4.1 Candidats'!E19 -> 0
... A48: 24 | B48: ='4.1 Candidats'!A31 -> 0 | C48: ='4.1 Candidats'!B31 -> 0 | D48: ='4.1 Candidats'!D31 -> 0 | E48: ='4.1 Candidats'!E31 -> 0

Sheet 6.Certif BC04
B1: PROCES-VERBAL – JURY D’EVALUATION - TFP "Chargé de développement d'une structure associative sportive" BC04 : Organiser un évènement ponctuel au sein de la structure sportive associative
B2: 1ère session - JURYS EVALUATION | F2: Rattrapages - JURYS EVALUATION
B4: OF organisatrice de la session d'examen : | D4: ='1.Contacts'!B2 -> dénomination organisme | F4: OF organisatrice de la session d'examen : | H4: ='1.Contacts'!B2 -> dénomination organisme
B5: Lieu de l'épreuve / adresse si présentiel : | D5: Outil utilisé si distanciel : | F5: Lieu de l'épreuve / adresse si présentiel : | H5: Outil utilisé si distanciel :
B6: Date/heure de début de la session d'examen : | F6: Date/heure de début de la session d'examen :
B7: Date/heure de fin de la session d'examen : | F7: Date/heure de fin de la session d'examen :
B8: Responsable d'organisation des épreuves | F8: Responsable d'organisation des épreuves
B9: Nom / Prénom : | F9: Nom / Prénom :
B10: Fonction : | F10: Fonction :
B11: Observations du jury sur le niveau des candidats | F11: Observations du jury sur le niveau des candidats
B16: Membres - Dirigeants associatifs (Nom / Prénom / Fonction) | D16: Membres - Salariés du secteur sportif (Nom / Prénom / Fonction) | F16: Membres - Dirigeants associatifs (Nom / Prénom / Fonction) | H16: Membres - Salariés du secteur sportif (Nom / Prénom / Fonction)
B17: 1. | D17: 1. | F17: 1. | H17: 1.
B18: 2. | D18: 2. | F18: 2. | H18: 2.
B19: 3. | D19: 3. | F19: 3. | H19: 3.
B20: 4. | D20: 4. | F20: 4. | H20: 4.
B22: CANDIDATS INSCRITS A LA SESSION
B23: L’épreuve est validée si l’ensemble des compétences du bloc est acquis. Les stagiaires en situation de handicap s’étant déclarés auprès de l’organisme de formation peuvent bénéficier d’adaptations particulières pour le déroulement de ces épreuves.
B24: NOM | C24: Prénom | D24: Date de Naissance | E24: Commune de naissance | G24: Résultats 1ère session - BC4 | H24: Résultats Rattrapages - BC4 | I24: Avis FINAL
A25: 1 | B25: ='4.1 Candidats'!A8 -> Ex : DUPONT | C25: ='4.1 Candidats'!B8 -> Antoine | D25: ='4.1 Candidats'!D8 -> 35956 | E25: ='4.1 Candidats'!E8 -> SURESNES
A26: 2 | B26: ='4.1 Candidats'!A9 -> 0 | C26: ='4.1 Candidats'!B9 -> 0 | D26: ='4.1 Candidats'!D9 -> 0 | E26: ='4.1 Candidats'!E9 -> 0
A27: 3 | B27: ='4.1 Candidats'!A10 -> 0 | C27: ='4.1 Candidats'!B10 -> 0 | D27: ='4.1 Candidats'!D10 -> 0 | E27: ='4.1 Candidats'!E10 -> 0
A28: 4 | B28: ='4.1 Candidats'!A11 -> 0 | C28: ='4.1 Candidats'!B11 -> 0 | D28: ='4.1 Candidats'!D11 -> 0 | E28: ='4.1 Candidats'!E11 -> 0
A29: 5 | B29: ='4.1 Candidats'!A12 -> 0 | C29: ='4.1 Candidats'!B12 -> 0 | D29: ='4.1 Candidats'!D12 -> 0 | E29: ='4.1 Candidats'!E12 -> 0
A30: 6 | B30: ='4.1 Candidats'!A13 -> 0 | C30: ='4.1 Candidats'!B13 -> 0 | D30: ='4.1 Candidats'!D13 -> 0 | E30: ='4.1 Candidats'!E13 -> 0
A31: 7 | B31: ='4.1 Candidats'!A14 -> 0 | C31: ='4.1 Candidats'!B14 -> 0 | D31: ='4.1 Candidats'!D14 -> 0 | E31: ='4.1 Candidats'!E14 -> 0
A32: 8 | B32: ='4.1 Candidats'!A15 -> 0 | C32: ='4.1 Candidats'!B15 -> 0 | D32: ='4.1 Candidats'!D15 -> 0 | E32: ='4.1 Candidats'!E15 -> 0
A33: 9 | B33: ='4.1 Candidats'!A16 -> 0 | C33: ='4.1 Candidats'!B16 -> 0 | D33: ='4.1 Candidats'!D16 -> 0 | E33: ='4.1 Candidats'!E16 -> 0
A34: 10 | B34: ='4.1 Candidats'!A17 -> 0 | C34: ='4.1 Candidats'!B17 -> 0 | D34: ='4.1 Candidats'!D17 -> 0 | E34: ='4.1 Candidats'!E17 -> 0
A35: 11 | B35: ='4.1 Candidats'!A18 -> 0 | C35: ='4.1 Candidats'!B18 -> 0 | D35: ='4.1 Candidats'!D18 -> 0 | E35: ='4.1 Candidats'!E18 -> 0
A36: 12 | B36: ='4.1 Candidats'!A19 -> 0 | C36: ='4.1 Candidats'!B19 -> 0 | D36: ='4.1 Candidats'!D19 -> 0 | E36: ='4.1 Candidats'!E19 -> 0
... A48: 24 | B48: ='4.1 Candidats'!A31 -> 0 | C48: ='4.1 Candidats'!B31 -> 0 | D48: ='4.1 Candidats'!D31 -> 0 | E48: ='4.1 Candidats'!E31 -> 0

Sheet 7.Synthèse des résultats
A1: RESULTAT FINAL TFP "Chargé de développement d'une structure associative sportive"
A3: ='1.Contacts'!B2 -> dénomination organisme | C3: ='1.Contacts'!B4 -> Du XX/XX/XX au XX/XX/XX | J3: SYNTHESE DES RESULTATS PAR BLOCS DE COMPETENCES | O3: A remplir par l'OCS SPORT lors du jury de délibération
B4: Nom | C4: Prénom | D4: Date de naissance | E4: Nom commune de naissance | F4: Code postal | G4: Adresse mail | H4: Site de formation | J4: RESULTAT BC01 | K4: RESULTAT BC02 | L4: RESULTAT BC03 | M4: RESULTAT BC04 | O4: Résultat final du titre
A5: 1 | B5: ='4.1 Candidats'!A8 -> Ex : DUPONT | C5: ='4.1 Candidats'!B8 -> Antoine | D5: ='4.1 Candidats'!D8 -> 35956 | E5: ='4.1 Candidats'!E8 -> SURESNES | F5: ='4.1 Candidats'!F8 -> 92200 | G5: ='4.1 Candidats'!J8 -> gdupont@gmail.com | H5: ='1.Contacts'!$D$2 -> Lieu de formation | J5: ='6.Certif BC01'!I25 -> 0 | K5: ='6.Certif BC02'!I25 -> 0 | L5: ='6.Certif BC03'!I25 -> 0 | M5: ='6.Certif BC04'!I25 -> 0
A6: 2 | B6: ='4.1 Candidats'!A9 -> 0 | C6: ='4.1 Candidats'!B9 -> 0 | D6: ='4.1 Candidats'!D9 -> 0 | E6: ='4.1 Candidats'!E9 -> 0 | F6: ='4.1 Candidats'!F9 -> 0 | G6: ='4.1 Candidats'!J9 -> 0 | H6: ='1.Contacts'!$D$2 -> Lieu de formation | J6: ='6.Certif BC01'!I26 -> 0 | K6: ='6.Certif BC02'!I26 -> 0 | L6: ='6.Certif BC03'!I26 -> 0 | M6: ='6.Certif BC04'!I26 -> 0
A7: 3 | B7: ='4.1 Candidats'!A10 -> 0 | C7: ='4.1 Candidats'!B10 -> 0 | D7: ='4.1 Candidats'!D10 -> 0 | E7: ='4.1 Candidats'!E10 -> 0 | F7: ='4.1 Candidats'!F10 -> 0 | G7: ='4.1 Candidats'!J10 -> 0 | H7: ='1.Contacts'!$D$2 -> Lieu de formation | J7: ='6.Certif BC01'!I27 -> 0 | K7: ='6.Certif BC02'!I27 -> 0 | L7: ='6.Certif BC03'!I27 -> 0 | M7: ='6.Certif BC04'!I27 -> 0
A8: 4 | B8: ='4.1 Candidats'!A11 -> 0 | C8: ='4.1 Candidats'!B11 -> 0 | D8: ='4.1 Candidats'!D11 -> 0 | E8: ='4.1 Candidats'!E11 -> 0 | F8: ='4.1 Candidats'!F11 -> 0 | G8: ='4.1 Candidats'!J11 -> 0 | H8: ='1.Contacts'!$D$2 -> Lieu de formation | J8: ='6.Certif BC01'!I28 -> 0 | K8: ='6.Certif BC02'!I28 -> 0 | L8: ='6.Certif BC03'!I28 -> 0 | M8: ='6.Certif BC04'!I28 -> 0
A9: 5 | B9: ='4.1 Candidats'!A12 -> 0 | C9: ='4.1 Candidats'!B12 -> 0 | D9: ='4.1 Candidats'!D12 -> 0 | E9: ='4.1 Candidats'!E12 -> 0 | F9: ='4.1 Candidats'!F12 -> 0 | G9: ='4.1 Candidats'!J12 -> 0 | H9: ='1.Contacts'!$D$2 -> Lieu de formation | J9: ='6.Certif BC01'!I29 -> 0 | K9: ='6.Certif BC02'!I29 -> 0 | L9: ='6.Certif BC03'!I29 -> 0 | M9: ='6.Certif BC04'!I29 -> 0
A10: 6 | B10: ='4.1 Candidats'!A13 -> 0 | C10: ='4.1 Candidats'!B13 -> 0 | D10: ='4.1 Candidats'!D13 -> 0 | E10: ='4.1 Candidats'!E13 -> 0 | F10: ='4.1 Candidats'!F13 -> 0 | G10: ='4.1 Candidats'!J13 -> 0 | H10: ='1.Contacts'!$D$2 -> Lieu de formation | J10: ='6.Certif BC01'!I30 -> 0 | K10: ='6.Certif BC02'!I30 -> 0 | L10: ='6.Certif BC03'!I30 -> 0 | M10: ='6.Certif BC04'!I30 -> 0
A11: 7 | B11: ='4.1 Candidats'!A14 -> 0 | C11: ='4.1 Candidats'!B14 -> 0 | D11: ='4.1 Candidats'!D14 -> 0 | E11: ='4.1 Candidats'!E14 -> 0 | F11: ='4.1 Candidats'!F14 -> 0 | G11: ='4.1 Candidats'!J14 -> 0 | H11: ='1.Contacts'!$D$2 -> Lieu de formation | J11: ='6.Certif BC01'!I31 -> 0 | K11: ='6.Certif BC02'!I31 -> 0 | L11: ='6.Certif BC03'!I31 -> 0 | M11: ='6.Certif BC04'!I31 -> 0
A12: 8 | B12: ='4.1 Candidats'!A15 -> 0 | C12: ='4.1 Candidats'!B15 -> 0 | D12: ='4.1 Candidats'!D15 -> 0 | E12: ='4.1 Candidats'!E15 -> 0 | F12: ='4.1 Candidats'!F15 -> 0 | G12: ='4.1 Candidats'!J15 -> 0 | H12: ='1.Contacts'!$D$2 -> Lieu de formation | J12: ='6.Certif BC01'!I32 -> 0 | K12: ='6.Certif BC02'!I32 -> 0 | L12: ='6.Certif BC03'!I32 -> 0 | M12: ='6.Certif BC04'!I32 -> 0
A13: 9 | B13: ='4.1 Candidats'!A16 -> 0 | C13: ='4.1 Candidats'!B16 -> 0 | D13: ='4.1 Candidats'!D16 -> 0 | E13: ='4.1 Candidats'!E16 -> 0 | F13: ='4.1 Candidats'!F16 -> 0 | G13: ='4.1 Candidats'!J16 -> 0 | H13: ='1.Contacts'!$D$2 -> Lieu de formation | J13: ='6.Certif BC01'!I33 -> 0 | K13: ='6.Certif BC02'!I33 -> 0 | L13: ='6.Certif BC03'!I33 -> 0 | M13: ='6.Certif BC04'!I33 -> 0
A14: 10 | B14: ='4.1 Candidats'!A17 -> 0 | C14: ='4.1 Candidats'!B17 -> 0 | D14: ='4.1 Candidats'!D17 -> 0 | E14: ='4.1 Candidats'!E17 -> 0 | F14: ='4.1 Candidats'!F17 -> 0 | G14: ='4.1 Candidats'!J17 -> 0 | H14: ='1.Contacts'!$D$2 -> Lieu de formation | J14: ='6.Certif BC01'!I34 -> 0 | K14: ='6.Certif BC02'!I34 -> 0 | L14: ='6.Certif BC03'!I34 -> 0 | M14: ='6.Certif BC04'!I34 -> 0
A15: 11 | B15: ='4.1 Candidats'!A18 -> 0 | C15: ='4.1 Candidats'!B18 -> 0 | D15: ='4.1 Candidats'!D18 -> 0 | E15: ='4.1 Candidats'!E18 -> 0 | F15: ='4.1 Candidats'!F18 -> 0 | G15: ='4.1 Candidats'!J18 -> 0 | H15: ='1.Contacts'!$D$2 -> Lieu de formation | J15: ='6.Certif BC01'!I35 -> 0 | K15: ='6.Certif BC02'!I35 -> 0 | L15: ='6.Certif BC03'!I35 -> 0 | M15: ='6.Certif BC04'!I35 -> 0
A16: 12 | B16: ='4.1 Candidats'!A19 -> 0 | C16: ='4.1 Candidats'!B19 -> 0 | D16: ='4.1 Candidats'!D19 -> 0 | E16: ='4.1 Candidats'!E19 -> 0 | F16: ='4.1 Candidats'!F19 -> 0 | G16: ='4.1 Candidats'!J19 -> 0 | H16: ='1.Contacts'!$D$2 -> Lieu de formation | J16: ='6.Certif BC01'!I36 -> 0 | K16: ='6.Certif BC02'!I36 -> 0 | L16: ='6.Certif BC03'!I36 -> 0 | M16: ='6.Certif BC04'!I36 -> 0
... A28: 24 | B28: ='4.1 Candidats'!A31 -> 0 | C28: ='4.1 Candidats'!B31 -> 0 | D28: ='4.1 Candidats'!D31 -> 0 | E28: ='4.1 Candidats'!E31 -> 0 | F28: ='4.1 Candidats'!F31 -> 0 | G28: ='4.1 Candidats'!J31 -> 0 | H28: ='1.Contacts'!$D$2 -> Lieu de formation | J28: ='6.Certif BC01'!I48 -> 0 | K28: ='6.Certif BC02'!I48 -> 0 | L28: ='6.Certif BC03'!I48 -> 0 | M28: ='6.Certif BC04'!I48 -> 0

Sheet 8. Avis OF
A1: Axes d'amélioration sur le référentiel de compétences et d'évaluation (avis des évaluateurs et/ou le responsable pédagogique de la session)
A4: Compétences évaluées :
A5: Modalités d'évaluation :
A6: Critères d'évaluation :
A7: Process et outils d'évaluation :
A8: Autre(s) commentaire(s) :
A9: Partenaire : | B9: ='1.Contacts'!B2 -> dénomination organisme | C9: Site de formation : | D9: ='1.Contacts'!D2 -> Lieu de formation
A11: Date session : | B11: ='1.Contacts'!B4 -> Du XX/XX/XX au XX/XX/XX

Sheet Listes déroulantes
A1: Statut formateur | B1: Sexe | C1: Niveau dernière qualif | D1: Situation avant le cursus certifiant | E1: Voie d'accès à la certification | F1: Statut MATU | G1: Justifif | H1: statut struct altern | I1: CV transmis
A2: Salarié de l'organisme | B2: M | C2: 3 | D2: actif occupé hors alternance | E2: formation initiale hors contrat d'altenance | F2: Salarié(e) | G2: OUI | H2: Association | I2: OUI
A3: Sous-traitant | B3: F | C3: 4 | D3: en recherche d'emploi | E3: formation continue hors contrat d'alternance | F3: Elu(e) bénévole | G3: NON | H3: Autre | I3: NON
A4: Cadre Technique Sportif | C4: 5 | D4: en formation | E4: contrat d'apprentissage | F4: Autre | G4: S.O.
C5: 6 | D5: inactif | E5: contrat de professionnalisation
C6: 7 | E6: autre
C7: 8
