Workbook

Sheet Notice
A1: NOTICE EXPLICATIVE DU KIT INGENIERIE CQP "Animateur de Mobilité à Vélo" RNCP 40916
A4: OBJET
A5: Cet outil a vocation à servir de support partagé entre l'organisme partenaire et OCS dans le cadre de la démarche d'habilitation mais aussi et surtout pour le suivi des sessions de formation. Dès réception de la demande d'ouverture de session par mail, au plus tard 1 mois avant l'entrée en formation, le Certificateur vous communiquera par mail un lien vers un dossier partagé pour y déposer, au plus tard 15 jours calendaires avant l'entrée en formation, le kit complet avec les données des candidats ainsi que les différentes pièces justificatives. Les onglets 1 à 3 du kit ingénierie devront également être actualisés. Ce kit devra être tenu à jour sur le Dossier partagé au fur et à mesure de la session de formation car il servira de base pour les réunions de suiv, contrôle sur site mais aussi pour le jury plenier. NB : Les PV des sessions d'examen devront nécessairement être renseignés au plus tard 3 jours après la date du dernier rattrapage
A7: PRESENTATION DES ONGLETS
A9: 1. Intervenants : tableau permettant d'identifier à la fois les volumes de formation programmés (en présentiel et en distanciel) mais également les intervenants ciblés ainsi que leur statut. Des lignes peuvent être rajoutées si vous souhaitez intégrer des modules supplémentaires. NB : Les volumes d'enseignement de ces modules supplémentaires ne pourront pas être compris dans le volume minimal des 160 heures prescrites. Pour le dépôt d'habilitation il est demandé de bien vérifier si vous disposer bien des CV des intervenants. CV attendus pour l'instruction administrative.
A11: 2. Calendrier : tableau permettant de planifier les volumes et périodes en centre de formation sur l'ensemble du parcours ainsi que les périodes d'alternance, de repos, de rattrapage/consolidation, etc. Les dates des jurys plénier seront calées par rapport aux dates des derniers rattrapages proposés par l'OC Sport. NB : Les temps en structure d'alternance et les volumes d'organisation des épreuves certificatives n'ont pas vocation être reportés sur ce calendrier.
A13: 3.1 Candidats : Données "candidats" devant être renseignées au plus tard au 1er jour de la formation en ce qui concerne les colonnes en orange A à J . Elles intègrent également les informations à collecter dans le cadre du processus vérification des pré requis et de positionnement . La complétude et la fiabilité des données sont fondamentales, notamment concernant l'état civil, car elles seront reportées automatiquement sur chaque feuille du classeur. Ce seront également ces données qui seront reportées sur le PV de délibération et qui seront transmises à la CDC pour l'accrochage. Il vous sera demandé de remplir les colonnes K a O au plus tard au 2/3 de la session de formation. NB : Ne pas supprimer de la liste les candidats qui quitte la formation en cours. Il sera alors mentionné "abandon" aux épreuves certificatives (onglets 4)
A15: 3.2 Tuteurs : Une liste de structure (avec les informations relatives à celle-ci et au tuteur) doit être identifié dans la demande de candidature. Les données "structures et tuteurs" pourront être consolidées au plus tard un mois après l'entrée en formation des candidats. Il est néanmoins vivement conseillé de ne pas faire entrer en formation les candidats sans structure d'alternance et tuteur identifiés dès la phase de sélection.
A17: 4. Certif BC01 à BC05 : tableaux des résultats des épreuves certificatives obtenues lors la première session et du rattrapage de chaque Bloc de Compétences. NB : Le partenaire doit veiller à reporter les résultats des candidats de manière strictement identique aux avis mentionnés sur les grilles d'évaluation signées par les évaluateurs et archivées dans le dossier individuel de chaque candidat dans l'espace partagé dédié avec l'OC Sport. Attention à ne pas oublier de renseigner la colonne "Avis final" sur la validation ou non du bloc (consolidation 1ère session d'examen et rattrapage).
A19: 5. Synthèse des résultats : Les résultats des épreuves certificatives sont reportées automatiquement sur le tableau de cet onglet. Le partenaire n'a pas d'action particulière à réaliser sur cet onglet qui serivra essentiellement au jury plénier.
A21: ECHEANCIER / LIVRABLES
A23: 1 mois avant la date prévue d'entrée en formation : Adresser une demande par mail d'ouverture de session au Certificateur précisant la date d'entrée en formation
... A29: Au plus tard 3 jours après la date du dernier rattrapage : Complétude de tous les onglets et des dossiers candidats sur l'espace partagé dédié avec l'OC Sport.

Sheet 1.Intervenants
B1: Intervenants de la Certification
B2: Module | C2: volumes indicatifs | D2: Noms des formateurs | E2: CV transmis (OUI/NON) | F2: Statut | G2: Volume présentiel | H2: Volume distanciel | I2: TOTAL
B3: RNCP40916BC01 Sensibilisation, conseil et recommandation autour des conditions de pratique de la mobilité à vélo en sécurité | I3: =SUM(G3:H6) -> 0
B7: RNCP40916BC02 Préparation et animation de séances d’initiation ou d’éducation à la mobilité à vélo | I7: =SUM(G7:H10) -> 0
B11: RNCP40916BC03 Gestion, préparation et entretien d’un parc à vélos et des équipements de protection individuelle nécessaires à la pratique de la mobilité à vélo | I11: =SUM(G11:H14) -> 0
B15: RNCP40916BC04 Organisation, information et communication autour de ses activités d’animation et d’encadrement physique et sportif 21 HEURES MINIMUM | I15: =SUM(G15:H18) -> 0
B19: RNCP40916BC05 Conduite de son parcours professionnel dans le domaine des activités physiques et sportives 21 HEURES MINIMUM | I19: =SUM(G19:H22) -> 0
B23: MODULES COMPLEMENTS (facultatif) | I23: =SUM(G23:H26) -> 0
C27: =SUM(C3:C26) -> 0 | F27: TOTAL | G27: =SUM(G3:G26) -> 0 | H27: =SUM(H3:H26) -> 0 | I27: =SUM(I3:I26) -> 0
F28: Total Sous-traitance (128h max) | G28: =SUMIFS(G3:G22,F3:F22,"Sous-traitant")+SUMIFS(H3:H22,F3:F22,"Sous-traitant") -> 0
F29: Total Distanciel (24h max) | G29: =SUM(H3:H22) -> 0
D30: PRENOM-NOM
B31: COORDONNATEUR DE LA SESSION DE FORMATION
B32: RESPONSABLE DES ORGANISATIONS DES EPREUVES
B33: REFERANT HANDICAP
B38: Choix des intervenants : Une qualification et/ou une expérience professionnelle significatives dans le(s) domaine(s) enseigné(s) sont attendues. Documents à transmettre : CV des nouveaux intervenants (non identifiés au moment de la demande d'habilitation) ;
C70: RNCP+RS | D70: total
C71: TOTAL | D71: =#REF!+I27 -> #REF!

Sheet 2.Calendrier
B2: Partenaire : | D2: dénomination organisme de formation
C3: Site : | D3: Lieu de formation
B4: Date de la session | E4: Du JJ/MM/AAAA au JJ/MM/AAAA | I4: Nombre de stagaires* | L4: =COUNTA('3.1 Candidats'!H8:H31) -> 1 | M4: *remplissage auto avec l'onglet 3.1
B5: Date du dernier rattrapage : | F5: JJ/MM/AAAA
B7: Calendrier de la Certification
B8: Trimestre 1 | E8: Trimestre 2 | H8: Trimestre 3 | K8: Trimestre 4 | N8: Trimestre 5
A9: J | B9: 45901 | C9: 45931 | D9: 45962 | E9: 45992 | F9: 46023 | G9: 46054 | H9: 46082 | I9: 46113 | J9: 46143 | K9: 46174 | L9: 46204 | M9: 46235 | N9: 46266 | O9: 46296 | P9: 46327
A10: 1 | B10: 7 | D10: férié | F10: férié | J10: férié | P10: férié
A11: 2 | B11: 7
A12: 3 | B12: 7
A13: 4 | B13: 7
A14: 5 | B14: 7
A15: 6 | I15: férié
A16: 7
A17: 8 | J17: férié
A18: 9
A19: 10
A20: 11 | D20: férié
A21: 12
A22: 13
A23: 14 | J23: férié | L23: férié
A24: 15 | M24: férié
A25: 16
A26: 17
A27: 18
A28: 19
A29: 20
A30: 21
A31: 22
A32: 23
A33: 24
A34: 25 | E34: Noël | J34: férié
A35: 26
A36: 27
A37: 28
A38: 29
A39: 30
A40: 31
A42: Heures | B42: =SUM(B10:B40) -> 35 | C42: =SUM(C10:C40) -> 0 | D42: =SUM(D10:D40) -> 0 | E42: =SUM(E10:E40) -> 0 | F42: =SUM(F10:F40) -> 0 | G42: =SUM(G10:G40) -> 0 | H42: =SUM(H10:H40) -> 0 | I42: =SUM(I10:I40) -> 0 | ... P42: =SUM(P10:P40) -> 0
A44: Total h | B44: =SUM(C45:C49) -> 35 | E44: LEGENDE | F44: Jours en strict alternance | J44: A COMPLETER (pas de volume)
A45: T1 | C45: =SUM(B42:D42) -> 35 | F45: Formation centre | J45: A COMPLETER + volumes
A46: T2 | C46: =SUM(E42:G42) -> 0 | F46: Week-end et jours fériés
A47: T3 | C47: =SUM(H42:J42) -> 0 | F47: Epreuves certificatives : initiales | J47: A COMPLETER (pas de volume)
A48: T4 | C48: =SUM(K42:M42) -> 0 | F48: Epreuves certificatives : rattrapage | J48: A COMPLETER (pas de volume)
A49: T5 | C49: =SUM(N42:P42) -> 0 | F49: Jurs plénier | J49: à confirmer OCS

Sheet 3.1 Candidats
A6: NOM Candidat* | B6: Prénom | C6: Sexe | D6: Date de naissance | E6: Commune de naissance | F6: CP de naissance | G6: Code postal | H6: Commune de résidence | I6: Adresse mail | J6: Téléphone | K6: Niveau de qualification avant le cursus | L6: Intitulé de la dernière certification obtenue* | M6: Dernier métier exercé | N6: Situation avant le cursus certifiant | O6: Voie d'accès à la Certification
A8: Ex : DUPONT | B8: Antoine | C8: M | D8: 35956 | E8: SURESNES | F8: 92200 | G8: 31000 | H8: Toulouse | I8: gdupont@gmail.com | J8: 0652321025 | K8: 4 | L8: BPJEPS | M8: éducateur sportif | N8: actif occupé hors alternance | O8: formation continue hors contrat d'alternance

Sheet 3.2 Tuteurs
A6: NOM Candidat* | B6: Prénom | C6: Nom de la structure d'alternance | D6: Statut de la structure d'alternance | E6: Nom - Tuteur | F6: Prénom - Tuteur | G6: Statut Tuteur | H6: Qualification du Tuteur | I6: Années d'expérience | J6: Adresse mail du Tuteur | K6: Téléphone Tuteur
A7: ='3.1 Candidats'!A8 -> Ex : DUPONT | B7: ='3.1 Candidats'!B8 -> Antoine
A8: ='3.1 Candidats'!A9 -> 0 | B8: ='3.1 Candidats'!B9 -> 0
A9: ='3.1 Candidats'!A10 -> 0 | B9: ='3.1 Candidats'!B10 -> 0
A10: ='3.1 Candidats'!A11 -> 0 | B10: ='3.1 Candidats'!B11 -> 0
A11: ='3.1 Candidats'!A12 -> 0 | B11: ='3.1 Candidats'!B12 -> 0
A12: ='3.1 Candidats'!A13 -> 0 | B12: ='3.1 Candidats'!B13 -> 0
A13: ='3.1 Candidats'!A14 -> 0 | B13: ='3.1 Candidats'!B14 -> 0
A14: ='3.1 Candidats'!A15 -> 0 | B14: ='3.1 Candidats'!B15 -> 0
A15: ='3.1 Candidats'!A16 -> 0 | B15: ='3.1 Candidats'!B16 -> 0
A16: ='3.1 Candidats'!A17 -> 0 | B16: ='3.1 Candidats'!B17 -> 0
A17: ='3.1 Candidats'!A18 -> 0 | B17: ='3.1 Candidats'!B18 -> 0
A18: ='3.1 Candidats'!A19 -> 0 | B18: ='3.1 Candidats'!B19 -> 0
... A30: ='3.1 Candidats'!A31 -> 0 | B30: ='3.1 Candidats'!B31 -> 0

Sheet 4.Certif BC01
B1: PROCES-VERBAL – JURY D’EVALUATION - CQP "Animateur de Mobilité à Vélo" RNCP40916BC01 Sensibilisation, conseil et recommandation autour des conditions de pratique de la mobilité à vélo en sécurité
B2: 1ère session - JURYS EVALUATION | F2: Rattrapages - JURYS EVALUATION
B4: OF organisatrice de la session d'examen : | D4: ='2.Calendrier'!D2 -> dénomination organisme de formation | F4: OF organisatrice de la session d'examen : | H4: ='2.Calendrier'!D2 -> dénomination organisme de formation
B5: Lieu de l'épreuve / adresse si présentiel : | D5: Outil utilisé si distanciel : | F5: Lieu de l'épreuve / adresse si présentiel : | H5: Outil utilisé si distanciel :
B6: Date/heure de début de la session d'examen : | F6: Date/heure de début de la session d'examen :
B7: Date/heure de fin de la session d'examen : | F7: Date/heure de fin de la session d'examen :
B8: Responsable d'organisation des épreuves | F8: Responsable d'organisation des épreuves
B9: Nom / Prénom : | F9: Nom / Prénom :
B10: Fonction : | F10: Fonction :
B11: Observations du jury sur le niveau des candidats | F11: Observations du jury sur le niveau des candidats
B16: NOM ET PRENOM DE L'EVALUATEUR 1 | D16: NOM ET PRENOM DE L'EVALUATEUR 2 | F16: NOM ET PRENOM DE L'EVALUATEUR 1 | H16: NOM ET PRENOM DE L'EVALUATEUR 2
B17: 1. | D17: 1. | F17: 1. | H17: 1.
B18: 2. | D18: 2. | F18: 2. | H18: 2.
B19: 3. | D19: 3. | F19: 3. | H19: 3.
B20: 4. | D20: 4. | F20: 4. | H20: 4.
B22: CANDIDATS INSCRITS A LA SESSION
B23: L’épreuve est validée si l’ensemble des compétences du bloc est acquis. Les stagiaires en situation de handicap s’étant déclarés auprès de l’organisme de formation peuvent bénéficier d’adaptations particulières pour le déroulement de ces épreuves.
B24: NOM | C24: Prénom | D24: Date de Naissance | E24: Commune de naissance | G24: Résultats 1ère session - RNCP40916BC01 | H24: Résultats Rattrapages - RNCP40916BC01 | I24: Avis FINAL
A25: 1 | B25: ='3.1 Candidats'!A8 -> Ex : DUPONT | C25: ='3.1 Candidats'!B8 -> Antoine | D25: ='3.1 Candidats'!D8 -> 35956 | E25: ='3.1 Candidats'!E8 -> SURESNES
A26: 2 | B26: ='3.1 Candidats'!A9 -> 0 | C26: ='3.1 Candidats'!B9 -> 0 | D26: ='3.1 Candidats'!D9 -> 0 | E26: ='3.1 Candidats'!E9 -> 0
A27: 3 | B27: ='3.1 Candidats'!A10 -> 0 | C27: ='3.1 Candidats'!B10 -> 0 | D27: ='3.1 Candidats'!D10 -> 0 | E27: ='3.1 Candidats'!E10 -> 0
A28: 4 | B28: ='3.1 Candidats'!A11 -> 0 | C28: ='3.1 Candidats'!B11 -> 0 | D28: ='3.1 Candidats'!D11 -> 0 | E28: ='3.1 Candidats'!E11 -> 0
A29: 5 | B29: ='3.1 Candidats'!A12 -> 0 | C29: ='3.1 Candidats'!B12 -> 0 | D29: ='3.1 Candidats'!D12 -> 0 | E29: ='3.1 Candidats'!E12 -> 0
A30: 6 | B30: ='3.1 Candidats'!A13 -> 0 | C30: ='3.1 Candidats'!B13 -> 0 | D30: ='3.1 Candidats'!D13 -> 0 | E30: ='3.1 Candidats'!E13 -> 0
A31: 7 | B31: ='3.1 Candidats'!A14 -> 0 | C31: ='3.1 Candidats'!B14 -> 0 | D31: ='3.1 Candidats'!D14 -> 0 | E31: ='3.1 Candidats'!E14 -> 0
A32: 8 | B32: ='3.1 Candidats'!A15 -> 0 | C32: ='3.1 Candidats'!B15 -> 0 | D32: ='3.1 Candidats'!D15 -> 0 | E32: ='3.1 Candidats'!E15 -> 0
A33: 9 | B33: ='3.1 Candidats'!A16 -> 0 | C33: ='3.1 Candidats'!B16 -> 0 | D33: ='3.1 Candidats'!D16 -> 0 | E33: ='3.1 Candidats'!E16 -> 0
A34: 10 | B34: ='3.1 Candidats'!A17 -> 0 | C34: ='3.1 Candidats'!B17 -> 0 | D34: ='3.1 Candidats'!D17 -> 0 | E34: ='3.1 Candidats'!E17 -> 0
A35: 11 | B35: ='3.1 Candidats'!A18 -> 0 | C35: ='3.1 Candidats'!B18 -> 0 | D35: ='3.1 Candidats'!D18 -> 0 | E35: ='3.1 Candidats'!E18 -> 0
A36: 12 | B36: ='3.1 Candidats'!A19 -> 0 | C36: ='3.1 Candidats'!B19 -> 0 | D36: ='3.1 Candidats'!D19 -> 0 | E36: ='3.1 Candidats'!E19 -> 0
... A48: 24 | B48: ='3.1 Candidats'!A31 -> 0 | C48: ='3.1 Candidats'!B31 -> 0 | D48: ='3.1 Candidats'!D31 -> 0 | E48: ='3.1 Candidats'!E31 -> 0

Sheet 4.Certif BC02
B1: PROCES-VERBAL – JURY D’EVALUATION - CQP "Animateur de Mobilité à Vélo" RNCP40916BC02 Préparation et animation de séances d’initiation ou d’éducation à la mobilité à vélo
B2: 1ère session - JURYS EVALUATION | F2: Rattrapages - JURYS EVALUATION
B4: OF organisatrice de la session d'examen : | D4: ='2.Calendrier'!D2 -> dénomination organisme de formation | F4: OF organisatrice de la session d'examen : | H4: ='2.Calendrier'!D2 -> dénomination organisme de formation
B5: Lieu de l'épreuve / adresse si présentiel : | D5: Outil utilisé si distanciel : | F5: Lieu de l'épreuve / adresse si présentiel : | H5: Outil utilisé si distanciel :
B6: Date/heure de début de la session d'examen : | F6: Date/heure de début de la session d'examen :
B7: Date/heure de fin de la session d'examen : | F7: Date/heure de fin de la session d'examen :
B8: Responsable d'organisation des épreuves | F8: Responsable d'organisation des épreuves
B9: Nom / Prénom : | F9: Nom / Prénom :
B10: Fonction : | F10: Fonction :
B11: Observations du jury sur le niveau des candidats | F11: Observations du jury sur le niveau des candidats
B16: NOM ET PRENOM DE L'EVALUATEUR 1 | D16: NOM ET PRENOM DE L'EVALUATEUR 2 | F16: NOM ET PRENOM DE L'EVALUATEUR 1 | H16: NOM ET PRENOM DE L'EVALUATEUR 2
B17: 1. | D17: 1. | F17: 1. | H17: 1.
B18: 2. | D18: 2. | F18: 2. | H18: 2.
B19: 3. | D19: 3. | F19: 3. | H19: 3.
B20: 4. | D20: 4. | F20: 4. | H20: 4.
B22: CANDIDATS INSCRITS A LA SESSION
B23: L’épreuve est validée si l’ensemble des compétences du bloc est acquis. Les stagiaires en situation de handicap s’étant déclarés auprès de l’organisme de formation peuvent bénéficier d’adaptations particulières pour le déroulement de ces épreuves.
B24: NOM | C24: Prénom | D24: Date de Naissance | E24: Commune de naissance | G24: Résultats 1ère session - RNCP40916BC02 | H24: Résultats Rattrapages - RNCP40916BC02 | I24: Avis FINAL
A25: 1 | B25: ='3.1 Candidats'!A8 -> Ex : DUPONT | C25: ='3.1 Candidats'!B8 -> Antoine | D25: ='3.1 Candidats'!D8 -> 35956 | E25: ='3.1 Candidats'!E8 -> SURESNES
A26: 2 | B26: ='3.1 Candidats'!A9 -> 0 | C26: ='3.1 Candidats'!B9 -> 0 | D26: ='3.1 Candidats'!D9 -> 0 | E26: ='3.1 Candidats'!E9 -> 0
A27: 3 | B27: ='3.1 Candidats'!A10 -> 0 | C27: ='3.1 Candidats'!B10 -> 0 | D27: ='3.1 Candidats'!D10 -> 0 | E27: ='3.1 Candidats'!E10 -> 0
A28: 4 | B28: ='3.1 Candidats'!A11 -> 0 | C28: ='3.1 Candidats'!B11 -> 0 | D28: ='3.1 Candidats'!D11 -> 0 | E28: ='3.1 Candidats'!E11 -> 0
A29: 5 | B29: ='3.1 Candidats'!A12 -> 0 | C29: ='3.1 Candidats'!B12 -> 0 | D29: ='3.1 Candidats'!D12 -> 0 | E29: ='3.1 Candidats'!E12 -> 0
A30: 6 | B30: ='3.1 Candidats'!A13 -> 0 | C30: ='3.1 Candidats'!B13 -> 0 | D30: ='3.1 Candidats'!D13 -> 0 | E30: ='3.1 Candidats'!E13 -> 0
A31: 7 | B31: ='3.1 Candidats'!A14 -> 0 | C31: ='3.1 Candidats'!B14 -> 0 | D31: ='3.1 Candidats'!D14 -> 0 | E31: ='3.1 Candidats'!E14 -> 0
A32: 8 | B32: ='3.1 Candidats'!A15 -> 0 | C32: ='3.1 Candidats'!B15 -> 0 | D32: ='3.1 Candidats'!D15 -> 0 | E32: ='3.1 Candidats'!E15 -> 0
A33: 9 | B33: ='3.1 Candidats'!A16 -> 0 | C33: ='3.1 Candidats'!B16 -> 0 | D33: ='3.1 Candidats'!D16 -> 0 | E33: ='3.1 Candidats'!E16 -> 0
A34: 10 | B34: ='3.1 Candidats'!A17 -> 0 | C34: ='3.1 Candidats'!B17 -> 0 | D34: ='3.1 Candidats'!D17 -> 0 | E34: ='3.1 Candidats'!E17 -> 0
A35: 11 | B35: ='3.1 Candidats'!A18 -> 0 | C35: ='3.1 Candidats'!B18 -> 0 | D35: ='3.1 Candidats'!D18 -> 0 | E35: ='3.1 Candidats'!E18 -> 0
A36: 12 | B36: ='3.1 Candidats'!A19 -> 0 | C36: ='3.1 Candidats'!B19 -> 0 | D36: ='3.1 Candidats'!D19 -> 0 | E36: ='3.1 Candidats'!E19 -> 0
... A48: 24 | B48: ='3.1 Candidats'!A31 -> 0 | C48: ='3.1 Candidats'!B31 -> 0 | D48: ='3.1 Candidats'!D31 -> 0 | E48: ='3.1 Candidats'!E31 -> 0

Sheet 4.Certif BC03
B1: PROCES-VERBAL – JURY D’EVALUATION - CQP "Animateur de Mobilité à Vélo" RNCP40916BC03 Gestion, préparation et entretien d’un parc à vélos et des équipements de protection individuelle nécessaires à la pratique de la mobilité à vélo
B2: 1ère session - JURYS EVALUATION | F2: Rattrapages - JURYS EVALUATION
B4: OF organisatrice de la session d'examen : | D4: ='2.Calendrier'!D2 -> dénomination organisme de formation | F4: OF organisatrice de la session d'examen : | H4: ='2.Calendrier'!D2 -> dénomination organisme de formation
B5: Lieu de l'épreuve / adresse si présentiel : | D5: Outil utilisé si distanciel : | F5: Lieu de l'épreuve / adresse si présentiel : | H5: Outil utilisé si distanciel :
B6: Date/heure de début de la session d'examen : | F6: Date/heure de début de la session d'examen :
B7: Date/heure de fin de la session d'examen : | F7: Date/heure de fin de la session d'examen :
B8: Responsable d'organisation des épreuves | F8: Responsable d'organisation des épreuves
B9: Nom / Prénom : | F9: Nom / Prénom :
B10: Fonction : | F10: Fonction :
B11: Observations du jury sur le niveau des candidats | F11: Observations du jury sur le niveau des candidats
B16: NOM ET PRENOM DE L'EVALUATEUR 1 | D16: NOM ET PRENOM DE L'EVALUATEUR 2 | F16: NOM ET PRENOM DE L'EVALUATEUR 1 | H16: NOM ET PRENOM DE L'EVALUATEUR 2
B17: 1. | D17: 1. | F17: 1. | H17: 1.
B18: 2. | D18: 2. | F18: 2. | H18: 2.
B19: 3. | D19: 3. | F19: 3. | H19: 3.
B20: 4. | D20: 4. | F20: 4. | H20: 4.
B22: CANDIDATS INSCRITS A LA SESSION
B23: L’épreuve est validée si l’ensemble des compétences du bloc est acquis. Les stagiaires en situation de handicap s’étant déclarés auprès de l’organisme de formation peuvent bénéficier d’adaptations particulières pour le déroulement de ces épreuves.
B24: NOM | C24: Prénom | D24: Date de Naissance | E24: Commune de naissance | G24: Résultats 1ère session - RNCP40916BC03 | H24: Résultats Rattrapages - RNCP40916BC03 | I24: Avis FINAL
A25: 1 | B25: ='3.1 Candidats'!A8 -> Ex : DUPONT | C25: ='3.1 Candidats'!B8 -> Antoine | D25: ='3.1 Candidats'!D8 -> 35956 | E25: ='3.1 Candidats'!E8 -> SURESNES
A26: 2 | B26: ='3.1 Candidats'!A9 -> 0 | C26: ='3.1 Candidats'!B9 -> 0 | D26: ='3.1 Candidats'!D9 -> 0 | E26: ='3.1 Candidats'!E9 -> 0
A27: 3 | B27: ='3.1 Candidats'!A10 -> 0 | C27: ='3.1 Candidats'!B10 -> 0 | D27: ='3.1 Candidats'!D10 -> 0 | E27: ='3.1 Candidats'!E10 -> 0
A28: 4 | B28: ='3.1 Candidats'!A11 -> 0 | C28: ='3.1 Candidats'!B11 -> 0 | D28: ='3.1 Candidats'!D11 -> 0 | E28: ='3.1 Candidats'!E11 -> 0
A29: 5 | B29: ='3.1 Candidats'!A12 -> 0 | C29: ='3.1 Candidats'!B12 -> 0 | D29: ='3.1 Candidats'!D12 -> 0 | E29: ='3.1 Candidats'!E12 -> 0
A30: 6 | B30: ='3.1 Candidats'!A13 -> 0 | C30: ='3.1 Candidats'!B13 -> 0 | D30: ='3.1 Candidats'!D13 -> 0 | E30: ='3.1 Candidats'!E13 -> 0
A31: 7 | B31: ='3.1 Candidats'!A14 -> 0 | C31: ='3.1 Candidats'!B14 -> 0 | D31: ='3.1 Candidats'!D14 -> 0 | E31: ='3.1 Candidats'!E14 -> 0
A32: 8 | B32: ='3.1 Candidats'!A15 -> 0 | C32: ='3.1 Candidats'!B15 -> 0 | D32: ='3.1 Candidats'!D15 -> 0 | E32: ='3.1 Candidats'!E15 -> 0
A33: 9 | B33: ='3.1 Candidats'!A16 -> 0 | C33: ='3.1 Candidats'!B16 -> 0 | D33: ='3.1 Candidats'!D16 -> 0 | E33: ='3.1 Candidats'!E16 -> 0
A34: 10 | B34: ='3.1 Candidats'!A17 -> 0 | C34: ='3.1 Candidats'!B17 -> 0 | D34: ='3.1 Candidats'!D17 -> 0 | E34: ='3.1 Candidats'!E17 -> 0
A35: 11 | B35: ='3.1 Candidats'!A18 -> 0 | C35: ='3.1 Candidats'!B18 -> 0 | D35: ='3.1 Candidats'!D18 -> 0 | E35: ='3.1 Candidats'!E18 -> 0
A36: 12 | B36: ='3.1 Candidats'!A19 -> 0 | C36: ='3.1 Candidats'!B19 -> 0 | D36: ='3.1 Candidats'!D19 -> 0 | E36: ='3.1 Candidats'!E19 -> 0
... A48: 24 | B48: ='3.1 Candidats'!A31 -> 0 | C48: ='3.1 Candidats'!B31 -> 0 | D48: ='3.1 Candidats'!D31 -> 0 | E48: ='3.1 Candidats'!E31 -> 0

Sheet 4.Certif BC04
B1: PROCES-VERBAL – JURY D’EVALUATION - CQP "Animateur de Mobilité à Vélo" RNCP40916BC04 Organisation, information et communication autour de ses activités d’animation et d’encadrement physique et sportif
B2: 1ère session - JURYS EVALUATION | F2: Rattrapages - JURYS EVALUATION
B4: OF organisatrice de la session d'examen : | D4: ='2.Calendrier'!D2 -> dénomination organisme de formation | F4: OF organisatrice de la session d'examen : | H4: ='2.Calendrier'!D2 -> dénomination organisme de formation
B5: Lieu de l'épreuve / adresse si présentiel : | D5: Outil utilisé si distanciel : | F5: Lieu de l'épreuve / adresse si présentiel : | H5: Outil utilisé si distanciel :
B6: Date/heure de début de la session d'examen : | F6: Date/heure de début de la session d'examen :
B7: Date/heure de fin de la session d'examen : | F7: Date/heure de fin de la session d'examen :
B8: Responsable d'organisation des épreuves | F8: Responsable d'organisation des épreuves
B9: Nom / Prénom : | F9: Nom / Prénom :
B10: Fonction : | F10: Fonction :
B11: Observations du jury sur le niveau des candidats | F11: Observations du jury sur le niveau des candidats
B16: NOM ET PRENOM DE L'EVALUATEUR 1 | D16: NOM ET PRENOM DE L'EVALUATEUR 2 | F16: NOM ET PRENOM DE L'EVALUATEUR 1 | H16: NOM ET PRENOM DE L'EVALUATEUR 2
B17: 1. | D17: 1. | F17: 1. | H17: 1.
B18: 2. | D18: 2. | F18: 2. | H18: 2.
B19: 3. | D19: 3. | F19: 3. | H19: 3.
B20: 4. | D20: 4. | F20: 4. | H20: 4.
B22: CANDIDATS INSCRITS A LA SESSION
B23: L’épreuve est validée si l’ensemble des compétences du bloc est acquis. Les stagiaires en situation de handicap s’étant déclarés auprès de l’organisme de formation peuvent bénéficier d’adaptations particulières pour le déroulement de ces épreuves.
B24: NOM | C24: Prénom | D24: Date de Naissance | E24: Commune de naissance | G24: Résultats 1ère session - RNCP40916BC04 | H24: Résultats Rattrapages - RNCP40916BC04 | I24: Avis FINAL
A25: 1 | B25: ='3.1 Candidats'!A8 -> Ex : DUPONT | C25: ='3.1 Candidats'!B8 -> Antoine | D25: ='3.1 Candidats'!D8 -> 35956 | E25: ='3.1 Candidats'!E8 -> SURESNES
A26: 2 | B26: ='3.1 Candidats'!A9 -> 0 | C26: ='3.1 Candidats'!B9 -> 0 | D26: ='3.1 Candidats'!D9 -> 0 | E26: ='3.1 Candidats'!E9 -> 0
A27: 3 | B27: ='3.1 Candidats'!A10 -> 0 | C27: ='3.1 Candidats'!B10 -> 0 | D27: ='3.1 Candidats'!D10 -> 0 | E27: ='3.1 Candidats'!E10 -> 0
A28: 4 | B28: ='3.1 Candidats'!A11 -> 0 | C28: ='3.1 Candidats'!B11 -> 0 | D28: ='3.1 Candidats'!D11 -> 0 | E28: ='3.1 Candidats'!E11 -> 0
A29: 5 | B29: ='3.1 Candidats'!A12 -> 0 | C29: ='3.1 Candidats'!B12 -> 0 | D29: ='3.1 Candidats'!D12 -> 0 | E29: ='3.1 Candidats'!E12 -> 0
A30: 6 | B30: ='3.1 Candidats'!A13 -> 0 | C30: ='3.1 Candidats'!B13 -> 0 | D30: ='3.1 Candidats'!D13 -> 0 | E30: ='3.1 Candidats'!E13 -> 0
A31: 7 | B31: ='3.1 Candidats'!A14 -> 0 | C31: ='3.1 Candidats'!B14 -> 0 | D31: ='3.1 Candidats'!D14 -> 0 | E31: ='3.1 Candidats'!E14 -> 0
A32: 8 | B32: ='3.1 Candidats'!A15 -> 0 | C32: ='3.1 Candidats'!B15 -> 0 | D32: ='3.1 Candidats'!D15 -> 0 | E32: ='3.1 Candidats'!E15 -> 0
A33: 9 | B33: ='3.1 Candidats'!A16 -> 0 | C33: ='3.1 Candidats'!B16 -> 0 | D33: ='3.1 Candidats'!D16 -> 0 | E33: ='3.1 Candidats'!E16 -> 0
A34: 10 | B34: ='3.1 Candidats'!A17 -> 0 | C34: ='3.1 Candidats'!B17 -> 0 | D34: ='3.1 Candidats'!D17 -> 0 | E34: ='3.1 Candidats'!E17 -> 0
A35: 11 | B35: ='3.1 Candidats'!A18 -> 0 | C35: ='3.1 Candidats'!B18 -> 0 | D35: ='3.1 Candidats'!D18 -> 0 | E35: ='3.1 Candidats'!E18 -> 0
A36: 12 | B36: ='3.1 Candidats'!A19 -> 0 | C36: ='3.1 Candidats'!B19 -> 0 | D36: ='3.1 Candidats'!D19 -> 0 | E36: ='3.1 Candidats'!E19 -> 0
... A48: 24 | B48: ='3.1 Candidats'!A31 -> 0 | C48: ='3.1 Candidats'!B31 -> 0 | D48: ='3.1 Candidats'!D31 -> 0 | E48: ='3.1 Candidats'!E31 -> 0

Sheet 4.Certif BC05
B1: PROCES-VERBAL – JURY D’EVALUATION - CQP "Animateur de Mobilité à Vélo" RNCP40916BC05 Conduite de son parcours professionnel dans le domaine des activités physiques et sportives
B2: 1ère session - JURYS EVALUATION | F2: Rattrapages - JURYS EVALUATION
B4: OF organisatrice de la session d'examen : | D4: ='2.Calendrier'!D2 -> dénomination organisme de formation | F4: OF organisatrice de la session d'examen : | H4: ='2.Calendrier'!D2 -> dénomination organisme de formation
B5: Lieu de l'épreuve / adresse si présentiel : | D5: Outil utilisé si distanciel : | F5: Lieu de l'épreuve / adresse si présentiel : | H5: Outil utilisé si distanciel :
B6: Date/heure de début de la session d'examen : | F6: Date/heure de début de la session d'examen :
B7: Date/heure de fin de la session d'examen : | F7: Date/heure de fin de la session d'examen :
B8: Responsable d'organisation des épreuves | F8: Responsable d'organisation des épreuves
B9: Nom / Prénom : | F9: Nom / Prénom :
B10: Fonction : | F10: Fonction :
B11: Observations du jury sur le niveau des candidats | F11: Observations du jury sur le niveau des candidats
B16: NOM ET PRENOM DE L'EVALUATEUR 1 | D16: NOM ET PRENOM DE L'EVALUATEUR 2 | F16: NOM ET PRENOM DE L'EVALUATEUR 1 | H16: NOM ET PRENOM DE L'EVALUATEUR 2
B17: 1. | D17: 1. | F17: 1. | H17: 1.
B18: 2. | D18: 2. | F18: 2. | H18: 2.
B19: 3. | D19: 3. | F19: 3. | H19: 3.
B20: 4. | D20: 4. | F20: 4. | H20: 4.
B22: CANDIDATS INSCRITS A LA SESSION
B23: L’épreuve est validée si l’ensemble des compétences du bloc est acquis. Les stagiaires en situation de handicap s’étant déclarés auprès de l’organisme de formation peuvent bénéficier d’adaptations particulières pour le déroulement de ces épreuves.
B24: NOM | C24: Prénom | D24: Date de Naissance | E24: Commune de naissance | G24: Résultats 1ère session - RNCP40916BC05 | H24: Résultats Rattrapages - RNCP40916BC05 | I24: Avis FINAL
A25: 1 | B25: ='3.1 Candidats'!A8 -> Ex : DUPONT | C25: ='3.1 Candidats'!B8 -> Antoine | D25: ='3.1 Candidats'!D8 -> 35956 | E25: ='3.1 Candidats'!E8 -> SURESNES
A26: 2 | B26: ='3.1 Candidats'!A9 -> 0 | C26: ='3.1 Candidats'!B9 -> 0 | D26: ='3.1 Candidats'!D9 -> 0 | E26: ='3.1 Candidats'!E9 -> 0
A27: 3 | B27: ='3.1 Candidats'!A10 -> 0 | C27: ='3.1 Candidats'!B10 -> 0 | D27: ='3.1 Candidats'!D10 -> 0 | E27: ='3.1 Candidats'!E10 -> 0
A28: 4 | B28: ='3.1 Candidats'!A11 -> 0 | C28: ='3.1 Candidats'!B11 -> 0 | D28: ='3.1 Candidats'!D11 -> 0 | E28: ='3.1 Candidats'!E11 -> 0
A29: 5 | B29: ='3.1 Candidats'!A12 -> 0 | C29: ='3.1 Candidats'!B12 -> 0 | D29: ='3.1 Candidats'!D12 -> 0 | E29: ='3.1 Candidats'!E12 -> 0
A30: 6 | B30: ='3.1 Candidats'!A13 -> 0 | C30: ='3.1 Candidats'!B13 -> 0 | D30: ='3.1 Candidats'!D13 -> 0 | E30: ='3.1 Candidats'!E13 -> 0
A31: 7 | B31: ='3.1 Candidats'!A14 -> 0 | C31: ='3.1 Candidats'!B14 -> 0 | D31: ='3.1 Candidats'!D14 -> 0 | E31: ='3.1 Candidats'!E14 -> 0
A32: 8 | B32: ='3.1 Candidats'!A15 -> 0 | C32: ='3.1 Candidats'!B15 -> 0 | D32: ='3.1 Candidats'!D15 -> 0 | E32: ='3.1 Candidats'!E15 -> 0
A33: 9 | B33: ='3.1 Candidats'!A16 -> 0 | C33: ='3.1 Candidats'!B16 -> 0 | D33: ='3.1 Candidats'!D16 -> 0 | E33: ='3.1 Candidats'!E16 -> 0
A34: 10 | B34: ='3.1 Candidats'!A17 -> 0 | C34: ='3.1 Candidats'!B17 -> 0 | D34: ='3.1 Candidats'!D17 -> 0 | E34: ='3.1 Candidats'!E17 -> 0
A35: 11 | B35: ='3.1 Candidats'!A18 -> 0 | C35: ='3.1 Candidats'!B18 -> 0 | D35: ='3.1 Candidats'!D18 -> 0 | E35: ='3.1 Candidats'!E18 -> 0
A36: 12 | B36: ='3.1 Candidats'!A19 -> 0 | C36: ='3.1 Candidats'!B19 -> 0 | D36: ='3.1 Candidats'!D19 -> 0 | E36: ='3.1 Candidats'!E19 -> 0
... A48: 24 | B48: ='3.1 Candidats'!A31 -> 0 | C48: ='3.1 Candidats'!B31 -> 0 | D48: ='3.1 Candidats'!D31 -> 0 | E48: ='3.1 Candidats'!E31 -> 0

Sheet 5.Synthèse des résultats
A1: RESULTAT FINAL CQP "Animateur de Mobilité à Vélo" - RNCP40916
A3: ='2.Calendrier'!D2 -> dénomination organisme de formation | C3: {='2.Calendrier'!E4:H4} -> Du JJ/MM/AAAA au JJ/MM/AAAA | D3: 0 | E3: 0 | F3: 0 | J3: SYNTHESE DES RESULTATS PAR BLOCS DE COMPETENCES | O3: A remplir par l'OCS SPORT lors du jury de délibération
B4: Nom | C4: Prénom | D4: Date de naissance | E4: Nom commune de naissance | F4: Code postal | G4: Adresse mail | H4: Site de formation | J4: RESULTAT BC01 | K4: RESULTAT BC02 | L4: RESULTAT BC03 | M4: RESULTAT BC04 | O4: Résultat final du titre
A5: 1 | B5: ='3.1 Candidats'!A8 -> Ex : DUPONT | C5: ='3.1 Candidats'!B8 -> Antoine | D5: ='3.1 Candidats'!D8 -> 35956 | E5: ='3.1 Candidats'!E8 -> SURESNES | F5: ='3.1 Candidats'!F8 -> 92200 | G5: ='3.1 Candidats'!I8 -> gdupont@gmail.com | H5: =#REF! -> #REF! | J5: ='4.Certif BC01'!I25 -> 0 | K5: ='4.Certif BC02'!I25 -> 0 | L5: ='4.Certif BC03'!I25 -> 0 | M5: ='4.Certif BC04'!I25 -> 0
A6: 2 | B6: ='3.1 Candidats'!A9 -> 0 | C6: ='3.1 Candidats'!B9 -> 0 | D6: ='3.1 Candidats'!D9 -> 0 | E6: ='3.1 Candidats'!E9 -> 0 | F6: ='3.1 Candidats'!F9 -> 0 | G6: ='3.1 Candidats'!I9 -> 0 | H6: =#REF! -> #REF! | J6: ='4.Certif BC01'!I26 -> 0 | K6: ='4.Certif BC02'!I26 -> 0 | L6: ='4.Certif BC03'!I26 -> 0 | M6: ='4.Certif BC04'!I26 -> 0
A7: 3 | B7: ='3.1 Candidats'!A10 -> 0 | C7: ='3.1 Candidats'!B10 -> 0 | D7: ='3.1 Candidats'!D10 -> 0 | E7: ='3.1 Candidats'!E10 -> 0 | F7: ='3.1 Candidats'!F10 -> 0 | G7: ='3.1 Candidats'!I10 -> 0 | H7: =#REF! -> #REF! | J7: ='4.Certif BC01'!I27 -> 0 | K7: ='4.Certif BC02'!I27 -> 0 | L7: ='4.Certif BC03'!I27 -> 0 | M7: ='4.Certif BC04'!I27 -> 0
A8: 4 | B8: ='3.1 Candidats'!A11 -> 0 | C8: ='3.1 Candidats'!B11 -> 0 | D8: ='3.1 Candidats'!D11 -> 0 | E8: ='3.1 Candidats'!E11 -> 0 | F8: ='3.1 Candidats'!F11 -> 0 | G8: ='3.1 Candidats'!I11 -> 0 | H8: =#REF! -> #REF! | J8: ='4.Certif BC01'!I28 -> 0 | K8: ='4.Certif BC02'!I28 -> 0 | L8: ='4.Certif BC03'!I28 -> 0 | M8: ='4.Certif BC04'!I28 -> 0
A9: 5 | B9: ='3.1 Candidats'!A12 -> 0 | C9: ='3.1 Candidats'!B12 -> 0 | D9: ='3.1 Candidats'!D12 -> 0 | E9: ='3.1 Candidats'!E12 -> 0 | F9: ='3.1 Candidats'!F12 -> 0 | G9: ='3.1 Candidats'!I12 -> 0 | H9: =#REF! -> #REF! | J9: ='4.Certif BC01'!I29 -> 0 | K9: ='4.Certif BC02'!I29 -> 0 | L9: ='4.Certif BC03'!I29 -> 0 | M9: ='4.Certif BC04'!I29 -> 0
A10: 6 | B10: ='3.1 Candidats'!A13 -> 0 | C10: ='3.1 Candidats'!B13 -> 0 | D10: ='3.1 Candidats'!D13 -> 0 | E10: ='3.1 Candidats'!E13 -> 0 | F10: ='3.1 Candidats'!F13 -> 0 | G10: ='3.1 Candidats'!I13 -> 0 | H10: =#REF! -> #REF! | J10: ='4.Certif BC01'!I30 -> 0 | K10: ='4.Certif BC02'!I30 -> 0 | L10: ='4.Certif BC03'!I30 -> 0 | M10: ='4.Certif BC04'!I30 -> 0
A11: 7 | B11: ='3.1 Candidats'!A14 -> 0 | C11: ='3.1 Candidats'!B14 -> 0 | D11: ='3.1 Candidats'!D14 -> 0 | E11: ='3.1 Candidats'!E14 -> 0 | F11: ='3.1 Candidats'!F14 -> 0 | G11: ='3.1 Candidats'!I14 -> 0 | H11: =#REF! -> #REF! | J11: ='4.Certif BC01'!I31 -> 0 | K11: ='4.Certif BC02'!I31 -> 0 | L11: ='4.Certif BC03'!I31 -> 0 | M11: ='4.Certif BC04'!I31 -> 0
A12: 8 | B12: ='3.1 Candidats'!A15 -> 0 | C12: ='3.1 Candidats'!B15 -> 0 | D12: ='3.1 Candidats'!D15 -> 0 | E12: ='3.1 Candidats'!E15 -> 0 | F12: ='3.1 Candidats'!F15 -> 0 | G12: ='3.1 Candidats'!I15 -> 0 | H12: =#REF! -> #REF! | J12: ='4.Certif BC01'!I32 -> 0 | K12: ='4.Certif BC02'!I32 -> 0 | L12: ='4.Certif BC03'!I32 -> 0 | M12: ='4.Certif BC04'!I32 -> 0
A13: 9 | B13: ='3.1 Candidats'!A16 -> 0 | C13: ='3.1 Candidats'!B16 -> 0 | D13: ='3.1 Candidats'!D16 -> 0 | E13: ='3.1 Candidats'!E16 -> 0 | F13: ='3.1 Candidats'!F16 -> 0 | G13: ='3.1 Candidats'!I16 -> 0 | H13: =#REF! -> #REF! | J13: ='4.Certif BC01'!I33 -> 0 | K13: ='4.Certif BC02'!I33 -> 0 | L13: ='4.Certif BC03'!I33 -> 0 | M13: ='4.Certif BC04'!I33 -> 0
A14: 10 | B14: ='3.1 Candidats'!A17 -> 0 | C14: ='3.1 Candidats'!B17 -> 0 | D14: ='3.1 Candidats'!D17 -> 0 | E14: ='3.1 Candidats'!E17 -> 0 | F14: ='3.1 Candidats'!F17 -> 0 | G14: ='3.1 Candidats'!I17 -> 0 | H14: =#REF! -> #REF! | J14: ='4.Certif BC01'!I34 -> 0 | K14: ='4.Certif BC02'!I34 -> 0 | L14: ='4.Certif BC03'!I34 -> 0 | M14: ='4.Certif BC04'!I34 -> 0
A15: 11 | B15: ='3.1 Candidats'!A18 -> 0 | C15: ='3.1 Candidats'!B18 -> 0 | D15: ='3.1 Candidats'!D18 -> 0 | E15: ='3.1 Candidats'!E18 -> 0 | F15: ='3.1 Candidats'!F18 -> 0 | G15: ='3.1 Candidats'!I18 -> 0 | H15: =#REF! -> #REF! | J15: ='4.Certif BC01'!I35 -> 0 | K15: ='4.Certif BC02'!I35 -> 0 | L15: ='4.Certif BC03'!I35 -> 0 | M15: ='4.Certif BC04'!I35 -> 0
A16: 12 | B16: ='3.1 Candidats'!A19 -> 0 | C16: ='3.1 Candidats'!B19 -> 0 | D16: ='3.1 Candidats'!D19 -> 0 | E16: ='3.1 Candidats'!E19 -> 0 | F16: ='3.1 Candidats'!F19 -> 0 | G16: ='3.1 Candidats'!I19 -> 0 | H16: =#REF! -> #REF! | J16: ='4.Certif BC01'!I36 -> 0 | K16: ='4.Certif BC02'!I36 -> 0 | L16: ='4.Certif BC03'!I36 -> 0 | M16: ='4.Certif BC04'!I36 -> 0
... A28: 24 | B28: ='3.1 Candidats'!A31 -> 0 | C28: ='3.1 Candidats'!B31 -> 0 | D28: ='3.1 Candidats'!D31 -> 0 | E28: ='3.1 Candidats'!E31 -> 0 | F28: ='3.1 Candidats'!F31 -> 0 | G28: ='3.1 Candidats'!I31 -> 0 | H28: =#REF! -> #REF! | J28: ='4.Certif BC01'!I48 -> 0 | K28: ='4.Certif BC02'!I48 -> 0 | L28: ='4.Certif BC03'!I48 -> 0 | M28: ='4.Certif BC04'!I48 -> 0

Sheet Listes déroulantes
A1: Statut formateur | B1: Sexe | C1: Niveau dernière qualif | D1: Situation avant le cursus certifiant | E1: Voie d'accès à la certification | F1: Statut MATU | G1: Justifif | H1: statut struct altern | I1: CV transmis
A2: Salarié de l'organisme | B2: M | C2: 3 | D2: actif occupé hors alternance | E2: FORMATION_CONTINUE_CONTRAT_DE_PROFESSIONNALISATION | F2: Salarié(e) | G2: OUI | H2: Association | I2: OUI
A3: Sous-traitant | B3: F | C3: 4 | D3: en recherche d'emploi | E3: FORMATION_CONTINUE_HORS_CONTRAT_DE_PROFESSIONNALISATION | F3: Elu(e) bénévole | G3: NON | H3: Autre | I3: NON
C4: 5 | D4: en formation | F4: Autre | G4: S.O.
C5: 6 | D5: inactif
C6: 7
C7: 8
